BEGIN:VCALENDAR
VERSION:2.0
PRODID:-//Global Business Travel Association - GBTA - ECPv6.9.0//NONSGML v1.0//EN
CALSCALE:GREGORIAN
METHOD:PUBLISH
X-WR-CALNAME:Global Business Travel Association - GBTA
X-ORIGINAL-URL:https://gbta.org
X-WR-CALDESC:Events for Global Business Travel Association - GBTA
REFRESH-INTERVAL;VALUE=DURATION:PT1H
X-Robots-Tag:noindex
X-PUBLISHED-TTL:PT1H
BEGIN:VTIMEZONE
TZID:America/New_York
BEGIN:DAYLIGHT
TZOFFSETFROM:-0500
TZOFFSETTO:-0400
TZNAME:EDT
DTSTART:20260308T070000
END:DAYLIGHT
BEGIN:STANDARD
TZOFFSETFROM:-0400
TZOFFSETTO:-0500
TZNAME:EST
DTSTART:20261101T060000
END:STANDARD
TZID:America/Sao_Paulo
BEGIN:STANDARD
TZOFFSETFROM:-0300
TZOFFSETTO:-0300
TZNAME:-03
DTSTART:20260101T000000
END:STANDARD
END:VTIMEZONE
BEGIN:VEVENT
DTSTART;VALUE=DATE:20260428
DTEND;VALUE=DATE:20260520
DTSTAMP:20260421T074456
CREATED:20260316T170757Z
LAST-MODIFIED:20260316T170757Z
UID:30765-1777334400-1779235199@gbta.org
SUMMARY:The Fundamentals of Business Travel Management (Europe)
DESCRIPTION:Course date: April 28 – May 19 (Tuesdays)\nOur Fundamentals of Business Travel Management course equips you with the knowledge you need to confidently own business travel management function at your organization\, develop and implement an efficient business travel policy\, oversee business travel vendors and technology procurement\, and much more. The learning modules covered during the training include: \n– Overview of Travel Management\n– Travel Policy\n– Creating a Service Model\n– Strategic Sourcing/Vendor Management\n– Travel Technology Basics\n– Data and Analytics/Measuring Success\n– Travel Risk Management \nAfter the course you receive your GBTA Professional Development Certificate. GTP holders will earn 14 GTP® Recertification credits. \nRegistration closes on April 19. \nQuestions? Please reach out to learning@gbta.org.
URL:https://gbta.org/event/the-fundamentals-of-business-travel-management-europe/
LOCATION:Virtual
CATEGORIES:Learning,Online Courses & Webinars,Virtual
END:VEVENT
BEGIN:VEVENT
DTSTART;TZID=America/Sao_Paulo:20260506T083000
DTEND;TZID=America/Sao_Paulo:20260506T130000
DTSTAMP:20260421T074456
CREATED:20260128T204511Z
LAST-MODIFIED:20260128T205942Z
UID:29114-1778056200-1778072400@gbta.org
SUMMARY:GBTA LATAM Business Travel Forum | Santiago
DESCRIPTION:Los GBTA LATAM Business Travel Forums son una serie de eventos de medio día de duración dirigido exclusivamente a Travel Managers del sector de viajes corporativos. Al asistir a este evento podrás: \n\nActualizar tus conocimientos sobre la mejora de tus programas de viajes corporativos.\nAmpliar tu red de contactos y asegurar un buen momento de networking con colegas locales.\nAprender los diferentes aspectos sobre la contratación de servicios de viaje en las áreas de aerolíneas\, hoteles\, empresas de alquiler de coches\, empresas de gestión de viajes\, informes de gastos y gestión de riesgos.\nInteractuar con los selectos proveedores que patrocinan el evento.\nInvertir tiempo en tu desarrollo personal y profesional.\n\nLa participación en los GBTA LATAM Business Travel Forums es bajo invitación. \nSi trabajas en la gestión de viajes dentro de una empresa y tienes interés en participar\, puedes registrarte aquí o escribirnos a latamevents@gbta.org. \nTu registro o mensaje de interés no asegura tu lugar en el evento.
URL:https://gbta.org/event/gbta-latam-business-travel-forum-santiago-3/
CATEGORIES:LATAM
END:VEVENT
BEGIN:VEVENT
DTSTART;VALUE=DATE:20260512
DTEND;VALUE=DATE:20260514
DTSTAMP:20260421T074456
CREATED:20250724T073916Z
LAST-MODIFIED:20260312T123840Z
UID:24975-1778544000-1778716799@gbta.org
SUMMARY:GBTA APAC Conference 2026 | Singapore
DESCRIPTION:GBTA APAC Conference 2026 | Singapore \nJoin us in Singapore for the 2026 GBTA APAC Conference at Marina Bay Sands on May 12-13\, where the business travel community will come together to connect\, learn\, and grow. Curated by regional thought leaders and backed by GBTA’s global insights\, this two-day event will tackle the most pressing issues and emerging opportunities shaping the business travel landscape in Asia Pacific. \nDate: May 12-13\, 2026\nLocation: Marina Bay Sands\, Singapore \n 
URL:https://gbta.org/event/gbta-apac-conference-2026-singapore/
CATEGORIES:APAC,Conference/Convention
ATTACH;FMTTYPE=image/webp:https://gbta.org/wp-content/uploads/apacbanner-600.webp
END:VEVENT
BEGIN:VEVENT
DTSTART;TZID=America/New_York:20260512T110000
DTEND;TZID=America/New_York:20260512T170000
DTSTAMP:20260421T074456
CREATED:20260306T180929Z
LAST-MODIFIED:20260306T180929Z
UID:30562-1778583600-1778605200@gbta.org
SUMMARY:GBTA South Carolina Golf Tournament
DESCRIPTION:Here’s your reservation link your guest can use to make reservations: \nBook your group rate for GBTA Golf Tournament \nYou will find the information for your online reservation link below. If you have questions or need help with the link\, please do not hesitate to ask. We appreciate your business and look forward to a successful event. \nEvent Summary: \nGBTA Golf Tournament \nStart Date: Monday\, May 11\, 2026 \nEnd Date: Wednesday\, May 13\, 2026 \nHotel(s) offering your special group rate: \n\nFairfield by Marriott Inn & Suites Coastal Carolina Conway for 159.00 USD per night – Last Day to Book : Monday\, April 27\, 2026\n\nBook your group rate for GBTA Golf Tournament
URL:https://gbta.org/event/gbta-south-carolina-golf-tournament/
CATEGORIES:North America,US Chapter Event
END:VEVENT
BEGIN:VEVENT
DTSTART;VALUE=DATE:20260519
DTEND;VALUE=DATE:20260522
DTSTAMP:20260421T074456
CREATED:20260127T165027Z
LAST-MODIFIED:20260127T165027Z
UID:28970-1779148800-1779407999@gbta.org
SUMMARY:GBTA Ladders Summit 2026
DESCRIPTION:The GBTA Ladders Summit is the signature annual gathering of the business travel industry’s next generation of leaders. Designed to inspire\, develop\, and elevate emerging talent\, the Summit brings together rising professionals\, senior mentors\, program alumni\, and industry executives for two days of high-impact learning and collaboration.
URL:https://gbta.org/event/gbta-ladders-summit-2026/
LOCATION:Grand Bohemian Charlotte\, Autograph Collection\, 201 W Trade St\, Charlotte\, NC\, 28202\, United States
CATEGORIES:Ladders,Summits & Workshops
END:VEVENT
BEGIN:VEVENT
DTSTART;TZID=America/New_York:20260521T094500
DTEND;TZID=America/New_York:20260521T140000
DTSTAMP:20260421T074456
CREATED:20260227T153126Z
LAST-MODIFIED:20260227T153126Z
UID:30117-1779356700-1779372000@gbta.org
SUMMARY:GBTA Italia Roadshow | Roma
DESCRIPTION:Il Roadshow di GBTA Italia unisce Masterclass\, Talk\, Tavole Rotonde e Insight finalizzati ad esplorare in modo smart e pratico le tematiche più attuali di Mice e Business Travel.
URL:https://gbta.org/event/gbta-italia-roadshow-roma/
LOCATION:Best Western Premier Hotel Royal Santina\, Via Marsala\, 22\, 00185\, Roma RM\, Italy
CATEGORIES:Italy
END:VEVENT
BEGIN:VEVENT
DTSTART;VALUE=DATE:20260526
DTEND;VALUE=DATE:20260527
DTSTAMP:20260421T074456
CREATED:20260409T131809Z
LAST-MODIFIED:20260409T131809Z
UID:31200-1779753600-1779839999@gbta.org
SUMMARY:GBTA Canada Regional Direct (Buyer) Talks
DESCRIPTION:GBTA Canada recognizes the importance of peer networking and best practice sharing. Unique to GBTA Canada are our Regional Direct (buyer) Talks. Direct (buyer) members gather virtually\, to exchange ideas\, and understand market dynamics. \nMay 26\, 2026 at 2:00 PM ET \nTo learn more and register for the GBTA Canada Direct Talks\, please contact: Canada@gbta.org
URL:https://gbta.org/event/gbta-canada-regional-direct-buyer-talks-2/
CATEGORIES:Canada
END:VEVENT
END:VCALENDAR