BEGIN:VCALENDAR
VERSION:2.0
PRODID:-//Global Business Travel Association - GBTA - ECPv6.9.0//NONSGML v1.0//EN
CALSCALE:GREGORIAN
METHOD:PUBLISH
X-ORIGINAL-URL:https://gbta.org
X-WR-CALDESC:Events for Global Business Travel Association - GBTA
REFRESH-INTERVAL;VALUE=DURATION:PT1H
X-Robots-Tag:noindex
X-PUBLISHED-TTL:PT1H
BEGIN:VTIMEZONE
TZID:America/Sao_Paulo
BEGIN:STANDARD
TZOFFSETFROM:-0300
TZOFFSETTO:-0300
TZNAME:-03
DTSTART:20260101T000000
END:STANDARD
TZID:America/New_York
BEGIN:DAYLIGHT
TZOFFSETFROM:-0500
TZOFFSETTO:-0400
TZNAME:EDT
DTSTART:20260308T070000
END:DAYLIGHT
BEGIN:STANDARD
TZOFFSETFROM:-0400
TZOFFSETTO:-0500
TZNAME:EST
DTSTART:20261101T060000
END:STANDARD
TZID:America/New_York
BEGIN:DAYLIGHT
TZOFFSETFROM:-0500
TZOFFSETTO:-0400
TZNAME:EDT
DTSTART:20260308T070000
END:DAYLIGHT
BEGIN:STANDARD
TZOFFSETFROM:-0400
TZOFFSETTO:-0500
TZNAME:EST
DTSTART:20261101T060000
END:STANDARD
TZID:America/Denver
BEGIN:DAYLIGHT
TZOFFSETFROM:-0700
TZOFFSETTO:-0600
TZNAME:MDT
DTSTART:20260308T090000
END:DAYLIGHT
BEGIN:STANDARD
TZOFFSETFROM:-0600
TZOFFSETTO:-0700
TZNAME:MST
DTSTART:20261101T080000
END:STANDARD
END:VTIMEZONE
BEGIN:VEVENT
DTSTART;TZID=America/Sao_Paulo:20260602T083000
DTEND;TZID=America/Sao_Paulo:20260602T140000
DTSTAMP:20260421T055817
CREATED:20260128T204718Z
LAST-MODIFIED:20260312T124154Z
UID:29118-1780389000-1780408800@gbta.org
SUMMARY:GBTA LATAM Business Travel Forum | São Paulo
DESCRIPTION:Los GBTA LATAM Business Travel Forums son una serie de eventos de medio día de duración dirigido exclusivamente a Travel Managers del sector de viajes corporativos. Al asistir a este evento podrás: \n\nActualizar tus conocimientos sobre la mejora de tus programas de viajes corporativos.\nAmpliar tu red de contactos y asegurar un buen momento de networking con colegas locales.\nAprender los diferentes aspectos sobre la contratación de servicios de viaje en las áreas de aerolíneas\, hoteles\, empresas de alquiler de coches\, empresas de gestión de viajes\, informes de gastos y gestión de riesgos.\nInteractuar con los selectos proveedores que patrocinan el evento.\nInvertir tiempo en tu desarrollo personal y profesional.\n\nLa participación en los GBTA LATAM Business Travel Forums es bajo invitación. \nSi trabajas en la gestión de viajes dentro de una empresa y tienes interés en participar\, puedes registrarte aquí o escribirnos a latamevents@gbta.org. \nTu registro o mensaje de interés no asegura tu lugar en el evento.
URL:https://gbta.org/event/gbta-latam-business-travel-forum-sao-paulo-2026/
CATEGORIES:LATAM
END:VEVENT
BEGIN:VEVENT
DTSTART;VALUE=DATE:20260609
DTEND;VALUE=DATE:20260612
DTSTAMP:20260421T055817
CREATED:20260203T184459Z
LAST-MODIFIED:20260203T184459Z
UID:29236-1780963200-1781222399@gbta.org
SUMMARY:U.S. Legislative Summit 2026
DESCRIPTION:The GBTA U.S. Legislative Summit is the premier advocacy event uniting business travel professionals from across the country to influence the policies that shape our industry. Over three impactful days in Washington\, D.C.\, attendees step directly into the heart of government to champion smarter\, stronger\, and more sustainable policies that support the business travel industry. 
URL:https://gbta.org/event/u-s-legislative-summit-2026/
LOCATION:Reserve Officers Association\, One Constitution Avenue\, NE\, Washington\, DC\, 20001\, United States
END:VEVENT
BEGIN:VEVENT
DTSTART;TZID=America/New_York:20260609T123000
DTEND;TZID=America/New_York:20260609T160000
DTSTAMP:20260421T055817
CREATED:20260306T153431Z
LAST-MODIFIED:20260306T153531Z
UID:30481-1781008200-1781020800@gbta.org
SUMMARY:GBTA Canada Buyer Only Exchange | Winnipeg
DESCRIPTION:Held in Winnipeg\, Edmonton\, and Ottawa these sessions provide a dynamic environment for education\, peer networking\, and knowledge sharing. More than just learning opportunities\, these events foster a sense of community—encouraging open dialogue\, shared challenges\, and fresh ideas to help buyers of all company sizes thrive in today’s business travel landscape. \nIf you are a corporate travel buyer interested in attending one of the GBTA Canada Buyer Only Exchange events\, please contact Canada@GBTA.org for more information.
URL:https://gbta.org/event/gbta-canada-buyer-only-exchange-winnipeg/
CATEGORIES:Canada
END:VEVENT
BEGIN:VEVENT
DTSTART;VALUE=DATE:20260611
DTEND;VALUE=DATE:20260612
DTSTAMP:20260421T055817
CREATED:20260409T131120Z
LAST-MODIFIED:20260409T131120Z
UID:31189-1781136000-1781222399@gbta.org
SUMMARY:Buyer Only Exchange | Ottawa
DESCRIPTION:The GBTA Canada Buyer Only Exchange is a series of half-day\, hosted events designed exclusively for corporate travel buyers.\n\nHeld in Winnipeg\, Edmonton\, and Ottawa these sessions provide a dynamic environment for education\, peer networking\, and knowledge sharing. More than just learning opportunities\, these events foster a sense of community—encouraging open dialogue\, shared challenges\, and fresh ideas to help buyers of all company sizes thrive in today’s business travel landscape. \nJune 11\nAC Hotel Ottawa Downtown\n201 Rideau Street\, Ottawa\nON\, K1N 5X8
URL:https://gbta.org/event/buyer-only-exchange-ottawa/
LOCATION:AC Hotel Ottawa Downtown\, 201 Rideau Street\, Ottawa\, ON\, K1N 5X8\, Canada
CATEGORIES:Canada
END:VEVENT
BEGIN:VEVENT
DTSTART;TZID=America/New_York:20260611T093000
DTEND;TZID=America/New_York:20260611T140000
DTSTAMP:20260421T055817
CREATED:20260227T183434Z
LAST-MODIFIED:20260227T183434Z
UID:30162-1781170200-1781186400@gbta.org
SUMMARY:GBTA Italia Roadshow | Padova
DESCRIPTION:Il Roadshow di GBTA Italia unisce Masterclass\, Talk\, Tavole Rotonde e Insight finalizzati ad esplorare in modo smart e pratico le tematiche più attuali di Mice e Business Travel.
URL:https://gbta.org/event/gbta-italia-roadshow-padova/
LOCATION:SAVHOTEL MANTEGNA PADOVA\, Via Niccolò Tommaseo\, 61\, 35131 Padova PD\, Italy
CATEGORIES:Italy
END:VEVENT
BEGIN:VEVENT
DTSTART;TZID=America/New_York:20260611T160000
DTEND;TZID=America/New_York:20260611T180000
DTSTAMP:20260421T055817
CREATED:20260306T180708Z
LAST-MODIFIED:20260306T180708Z
UID:30558-1781193600-1781200800@gbta.org
SUMMARY:GBTA South Carolina Networking Mixer
DESCRIPTION:Comp Networking Mixer for Members at the Embassy Suites Greenville Downtown.
URL:https://gbta.org/event/gbta-south-carolina-networking-mixer/
CATEGORIES:North America,US Chapter Event
END:VEVENT
BEGIN:VEVENT
DTSTART;TZID=America/Denver:20260616T123000
DTEND;TZID=America/Denver:20260616T160000
DTSTAMP:20260421T055817
CREATED:20260306T153621Z
LAST-MODIFIED:20260306T153639Z
UID:30504-1781613000-1781625600@gbta.org
SUMMARY:GBTA Canada Buyer Only Exchange | Edmonton
DESCRIPTION:Held in Winnipeg\, Edmonton\, and Ottawa these sessions provide a dynamic environment for education\, peer networking\, and knowledge sharing. More than just learning opportunities\, these events foster a sense of community—encouraging open dialogue\, shared challenges\, and fresh ideas to help buyers of all company sizes thrive in today’s business travel landscape. \nIf you are a corporate travel buyer interested in attending one of the GBTA Canada Buyer Only Exchange events\, please contact Canada@GBTA.org for more information.
URL:https://gbta.org/event/gbta-canada-buyer-only-exchange-edmonton/
CATEGORIES:Canada
END:VEVENT
BEGIN:VEVENT
DTSTART;VALUE=DATE:20260619
DTEND;VALUE=DATE:20260620
DTSTAMP:20260421T055817
CREATED:20260312T124716Z
LAST-MODIFIED:20260312T124716Z
UID:30675-1781827200-1781913599@gbta.org
SUMMARY:GBTA India Summit 2026
DESCRIPTION:Step Into India’s Flagship Gathering for Business Travel Leaders: GBTA India Summit 2026 is the must-attend one-day experience for business leaders and decision-makers shaping corporate travel across India and beyond. With high-impact insights\, forward-thinking conversations\, and unmatched networking opportunities\, it builds on the exceptional success of the inaugural 2025 Summit\, a sold-out gathering that received excellent feedback from attendees.
URL:https://gbta.org/event/gbta-india-summit-2026/
CATEGORIES:APAC,Summits & Workshops
END:VEVENT
BEGIN:VEVENT
DTSTART;VALUE=DATE:20260619
DTEND;VALUE=DATE:20260731
DTSTAMP:20260421T055817
CREATED:20260312T125236Z
LAST-MODIFIED:20260312T125236Z
UID:30686-1781827200-1785455999@gbta.org
SUMMARY:GBTA LATAM Business Travel Forums 2026 | Panama City
DESCRIPTION:Por más de cuatro años\, los GBTA LATAM Business Travel Forums han sido la plataforma líder en la región para el aprendizaje entre decisores de compra de viajes corporativos\, travel managers y gestores de viajes corporativos\, así como para el networking de alto valor y el crecimiento profesional. \nEstos eventos dinámicos de medio día combinan educación especializada en viajes corporativos con un Expo + Networking Brunch\, reuniendo a 30 a 60 travel managers en seis mercados clave. \nAhora\, GBTA expande esta experiencia en América Latina con dos nuevas ciudades.
URL:https://gbta.org/event/gbta-latam-business-travel-forums-2026-panama-city/
END:VEVENT
BEGIN:VEVENT
DTSTART;VALUE=DATE:20260630
DTEND;VALUE=DATE:20260701
DTSTAMP:20260421T055817
CREATED:20251023T150938Z
LAST-MODIFIED:20260311T143529Z
UID:26891-1782777600-1782863999@gbta.org
SUMMARY:Masterclass GBTA France 2026
DESCRIPTION:Description:\nLa Masterclass\, événement phare du calendrier GBTA France est le rendez-vous des professionnels du Voyage d’Affaires et du MICE.\nDes experts acheteurs\, Travel Managers et fournisseurs\, représentant de la chaine de valeur Travel et MICE donneront un éclairage sur l’industrie et partageront leur retour d’expérience sur des thématiques d’actualité. \nStart Date and Time:\n30 juin 2026 09:00 am CET \nEnd Date and Time:\n30 juin 2026 09:00 pm CET \nLocation:\nNovotel Paris Centre Tour Eiffel 61 Quai de Grenelle\, 75015 Paris \n Inscrivez vous
URL:https://gbta.org/event/masterclass-gbta-france-2026/
LOCATION:Novotel Paris Centre Tour Eiffel\, 61 Quai de Grenelle\, Paris\, 75015\, France
CATEGORIES:France
END:VEVENT
BEGIN:VEVENT
DTSTART;TZID=America/New_York:20260630T083000
DTEND;TZID=America/New_York:20260630T100000
DTSTAMP:20260421T055817
CREATED:20260227T152618Z
LAST-MODIFIED:20260323T181806Z
UID:30107-1782808200-1782813600@gbta.org
SUMMARY:GBTA Italia Breakfast | Torino
DESCRIPTION:Le Breakfast di GBTA Italia sono un’occasione di incontro\, aggiornamento e confronto\, dalle 8.30 alle 10.00. \nEVENTO PER SOLI TRAVEL MANAGER \n DIVENTA MEMBRO GBTA
URL:https://gbta.org/event/gbta-italia-breakfast-torino/
LOCATION:NH Torino Centro\, C.so Vittorio Emanuele II\, 104\, 10121\, Torino TO
CATEGORIES:Italy
END:VEVENT
END:VCALENDAR