BEGIN:VCALENDAR
VERSION:2.0
PRODID:-//Global Business Travel Association - GBTA - ECPv6.9.0//NONSGML v1.0//EN
CALSCALE:GREGORIAN
METHOD:PUBLISH
X-WR-CALNAME:Global Business Travel Association - GBTA
X-ORIGINAL-URL:https://gbta.org
X-WR-CALDESC:Events for Global Business Travel Association - GBTA
REFRESH-INTERVAL;VALUE=DURATION:PT1H
X-Robots-Tag:noindex
X-PUBLISHED-TTL:PT1H
BEGIN:VTIMEZONE
TZID:America/New_York
BEGIN:DAYLIGHT
TZOFFSETFROM:-0500
TZOFFSETTO:-0400
TZNAME:EDT
DTSTART:20260308T070000
END:DAYLIGHT
BEGIN:STANDARD
TZOFFSETFROM:-0400
TZOFFSETTO:-0500
TZNAME:EST
DTSTART:20261101T060000
END:STANDARD
TZID:America/New_York
BEGIN:DAYLIGHT
TZOFFSETFROM:-0500
TZOFFSETTO:-0400
TZNAME:EDT
DTSTART:20260308T070000
END:DAYLIGHT
BEGIN:STANDARD
TZOFFSETFROM:-0400
TZOFFSETTO:-0500
TZNAME:EST
DTSTART:20261101T060000
END:STANDARD
END:VTIMEZONE
BEGIN:VEVENT
DTSTART;VALUE=DATE:20260407
DTEND;VALUE=DATE:20260429
DTSTAMP:20260419T182703
CREATED:20260316T170654Z
LAST-MODIFIED:20260316T170654Z
UID:30761-1775520000-1777420799@gbta.org
SUMMARY:The Fundamentals of Business Travel Management (Americas)
DESCRIPTION:Course dates: April 7 – April 28 (Tuesdays) \nOur Fundamentals of Business Travel Management course equips you with the knowledge you need to confidently own business travel management function at your organization\, develop and implement an efficient business travel policy\, oversee business travel vendors and technology procurement\, and much more. The learning modules covered during the training include: \n– Overview of Travel Management\n– Travel Policy\n– Creating a Service Model\n– Strategic Sourcing/Vendor Management\n– Travel Technology Basics\n– Data and Analytics/Measuring Success\n– Travel Risk Management \nAfter the course you receive your GBTA Professional Development Certificate. GTP holders will earn 14 GTP® Recertification credits. \nRegistration closes on March 29. \nQuestions? Please reach out to learning@gbta.org.
URL:https://gbta.org/event/the-fundamentals-of-business-travel-management-americas/
LOCATION:Virtual
CATEGORIES:Learning,Online Courses & Webinars,Virtual
END:VEVENT
BEGIN:VEVENT
DTSTART;TZID=America/New_York:20260422T090000
DTEND;TZID=America/New_York:20260422T123000
DTSTAMP:20260419T182703
CREATED:20260210T154538Z
LAST-MODIFIED:20260210T154538Z
UID:29485-1776848400-1776861000@gbta.org
SUMMARY:GBTA APAC Business Travel Forum 2026 | Melbourne
DESCRIPTION:The GBTA APAC Business Travel Forums returns in 2026 with four regionally focused events across Brisbane\, Perth\, Melbourne and Auckland\, running from March to April.    \nAbout the GBTA APAC Business Travel Forum 2026 | Melbourne  \nThe GBTA APAC Business Travel Forum 2026 in Melbourne will examine data-driven travel programs\, ESG accountability and complex travel ecosystems\, aligned with the city’s concentration of large corporates\, professional services firms and multinational headquarters. Discussions will focus on using analytics\, AI and supplier partnerships to optimise spend\, compliance and sustainability outcomes.  \nKey sessions:  \n\nSustainability & Carbon-Aware Travel Policy \nDuty of Care in a Complex World 
URL:https://gbta.org/event/gbta-apac-business-travel-forum-2026-melbourne/
LOCATION:Sofitel Melbourne on Collins\, 25 Collins Street\, Melbourne\, Victoria\, Australia
CATEGORIES:APAC
END:VEVENT
BEGIN:VEVENT
DTSTART;TZID=America/New_York:20260423T083000
DTEND;TZID=America/New_York:20260423T140000
DTSTAMP:20260419T182703
CREATED:20260128T204122Z
LAST-MODIFIED:20260128T205959Z
UID:29107-1776933000-1776952800@gbta.org
SUMMARY:GBTA LATAM Business Travel Forum | Bogotá
DESCRIPTION:Los GBTA LATAM Business Travel Forums son una serie de eventos de medio día de duración dirigido exclusivamente a Travel Managers del sector de viajes corporativos. Al asistir a este evento podrás: \n\nActualizar tus conocimientos sobre la mejora de tus programas de viajes corporativos.\nAmpliar tu red de contactos y asegurar un buen momento de networking con colegas locales.\nAprender los diferentes aspectos sobre la contratación de servicios de viaje en las áreas de aerolíneas\, hoteles\, empresas de alquiler de coches\, empresas de gestión de viajes\, informes de gastos y gestión de riesgos.\nInteractuar con los selectos proveedores que patrocinan el evento.\nInvertir tiempo en tu desarrollo personal y profesional.\n\nLa participación en los GBTA LATAM Business Travel Forums es bajo invitación. \nSi trabajas en la gestión de viajes dentro de una empresa y tienes interés en participar\, puedes registrarte aquí o escribirnos a latamevents@gbta.org. \nTu registro o mensaje de interés no asegura tu lugar en el evento.
URL:https://gbta.org/event/29107/
LOCATION:Salvio Parque 93 Bogota\, Curio Collection by Hilton\, Cra. 12 #93 – 75\, Bogotá\, Colombia
CATEGORIES:LATAM
END:VEVENT
BEGIN:VEVENT
DTSTART;TZID=America/New_York:20260423T093000
DTEND;TZID=America/New_York:20260423T113000
DTSTAMP:20260419T182703
CREATED:20260205T134332Z
LAST-MODIFIED:20260306T171939Z
UID:29287-1776936600-1776943800@gbta.org
SUMMARY:Bridging Travel\, Mobility and Government Perspectives
DESCRIPTION:In-Person at Roost White House DC\n1425 New York Avenue NW\, Washington\, DC 20005\nIn today’s environment\, global business travel and workforce mobility are influenced by evolving regulations\, border processes\, and international coordination. Understanding how these systems work\, and how public and private sectors can collaborate effectively has never been more important. \nJoin the GBTA Greater DC Metro Chapter for an educational\, solutions-focused Legislative Breakfast bringing together leaders from industry for a constructive dialogue. \nConfirmed Contributors Include: \nShane Downey\, SVP Government & Community Relations\, GBTA \nCornerstone Government Affairs\, public policy advisors supporting GBTA \nMike Jackson\, Government Relations Leader\, WERC \nNan Park (Moderator)\, Senior Vice President of Newland Chase/CIBT \nWhat This Session Is — and Isn’t\nThis is not a partisan forum.\nIt is an educational discussion designed to: \nProvide clarity on current regulatory and border developments affecting business travel and mobility \nShare how GBTA\, WERC and other industry associations engage constructively with policymakers \nExplore how public and private stakeholders can improve transparency\, efficiency\, and traveler experience \nEncourage cross-functional dialogue between travel\, mobility\, immigration\, and government professionals \nAs a timely example\, we will briefly touch on upcoming large-scale international events including the 2026 FIFA World Cup as one illustration of how global attention and elevated cross-border movement can test systems and require proactive planning. The broader focus\, however\, remains on long-term readiness and collaboration across our industry. \nWhy Attend\nFor corporate travel managers and global mobility leaders\, this session offers practical insight into how regulatory environments evolve and how industry feedback is communicated. \nFor government and embassy professionals\, it provides direct exposure to operational realities companies face when deploying global workforces. \nFor suppliers and TMC partners\, it offers a strategic view of advocacy priorities and collaborative opportunities. \nAs the chapter based in Washington\, DC\, we are uniquely positioned to create thoughtful\, respectful conversations that strengthen understanding across sectors. \nJoin peers from government\, industry\, and multinational organizations for a morning of insight\, dialogue\, and connection. \nSeats are limited to encourage meaningful interaction. We look forward to welcoming you.
URL:https://gbta.org/event/bridging-travel-mobility-and-government-perspectives/
LOCATION:Roost White House DC\, 1425 New York Avenue NW\, Washington DC\, 20005\, United States
CATEGORIES:North America,US Chapter Event
END:VEVENT
BEGIN:VEVENT
DTSTART;VALUE=DATE:20260427
DTEND;VALUE=DATE:20260428
DTSTAMP:20260419T182703
CREATED:20251124T181045Z
LAST-MODIFIED:20260306T172029Z
UID:27619-1777248000-1777334399@gbta.org
SUMMARY:GBTA Canada Conference 2026 - Toronto
DESCRIPTION:[Learn More]  \nJoin us in Toronto for the GBTA Canada Conference\, taking place April 27–29 at our new venue\, The Westin Harbour Castle. This three-day event brings together the business travel community to network\, learn from industry experts\, and engage in peer-to-peer education.\nCurated by regional thought leaders\, the conference will focus on the key issues and opportunities shaping the business travel industry today. Experience an agenda designed to foster learning\, community and collaboration\, empowering professionals to drive meaningful change across the sector.\nConnect with peers\, expand your network\, and be inspired by innovative content that will deepen your understanding of industry challenges and accelerate your career growth. \nStart Date: Monday\, April 27\,2026\nEnd Date: Wednesday\, April 29\, 2026\nVenue: The Westin Harbour Castle\, Toronto | 1 Harbour Square\, Toronto\, ON M5J 1A6\, Canada.\nSponsorship and exhibit opportunities are now available. \n 
URL:https://gbta.org/event/gbta-canada-conference-2026-toronto/
LOCATION:The Westin Harbour Castle\, 1 Harbour Square\, Toronto\, ON\, M5J 1A6\, Canada
CATEGORIES:Canada,Conference/Convention
ATTACH;FMTTYPE=image/webp:https://gbta.org/wp-content/uploads/canada-feature.webp
END:VEVENT
BEGIN:VEVENT
DTSTART;VALUE=DATE:20260428
DTEND;VALUE=DATE:20260520
DTSTAMP:20260419T182703
CREATED:20260316T170757Z
LAST-MODIFIED:20260316T170757Z
UID:30765-1777334400-1779235199@gbta.org
SUMMARY:The Fundamentals of Business Travel Management (Europe)
DESCRIPTION:Course date: April 28 – May 19 (Tuesdays)\nOur Fundamentals of Business Travel Management course equips you with the knowledge you need to confidently own business travel management function at your organization\, develop and implement an efficient business travel policy\, oversee business travel vendors and technology procurement\, and much more. The learning modules covered during the training include: \n– Overview of Travel Management\n– Travel Policy\n– Creating a Service Model\n– Strategic Sourcing/Vendor Management\n– Travel Technology Basics\n– Data and Analytics/Measuring Success\n– Travel Risk Management \nAfter the course you receive your GBTA Professional Development Certificate. GTP holders will earn 14 GTP® Recertification credits. \nRegistration closes on April 19. \nQuestions? Please reach out to learning@gbta.org.
URL:https://gbta.org/event/the-fundamentals-of-business-travel-management-europe/
LOCATION:Virtual
CATEGORIES:Learning,Online Courses & Webinars,Virtual
END:VEVENT
BEGIN:VEVENT
DTSTART;TZID=America/New_York:20260430T090000
DTEND;TZID=America/New_York:20260430T123000
DTSTAMP:20260419T182703
CREATED:20260210T154914Z
LAST-MODIFIED:20260210T154914Z
UID:29492-1777539600-1777552200@gbta.org
SUMMARY:GBTA APAC Business Travel Forum 2026 | Auckland
DESCRIPTION:The GBTA APAC Business Travel Forums returns in 2026 with four regionally focused events across Brisbane\, Perth\, Melbourne and Auckland\, running from March to April.    \nAbout the GBTA APAC Business Travel Forum 2026 | Auckland  \nThe GBTA APAC Business Travel Forum 2026 in Auckland will explore trans-Tasman and Asia-Pacific connectivity\, integrated travel and meetings strategy\, and technology adoption\, recognising New Zealand’s gateway role and growing convergence between corporate travel and business events. Content has been shaped to reflect the needs of both multinational and mid-market organisations.  \nKey sessions:  \n\nTechnology Adoption & Supplier Innovation  \nIntegration of Travel + Meetings & Events 
URL:https://gbta.org/event/gbta-apac-business-travel-forum-2026-auckland/
LOCATION:Sofitel Auckland\, 21 Viaduct Harbour Avenue\, Auckland 1010\, New Zealand
CATEGORIES:APAC
END:VEVENT
END:VCALENDAR