BEGIN:VCALENDAR
VERSION:2.0
PRODID:-//Global Business Travel Association - GBTA - ECPv6.9.0//NONSGML v1.0//EN
CALSCALE:GREGORIAN
METHOD:PUBLISH
X-ORIGINAL-URL:https://gbta.org/fr
X-WR-CALDESC:Évènements pour Global Business Travel Association - GBTA
REFRESH-INTERVAL;VALUE=DURATION:PT1H
X-Robots-Tag:noindex
X-PUBLISHED-TTL:PT1H
BEGIN:VTIMEZONE
TZID:America/New_York
BEGIN:DAYLIGHT
TZOFFSETFROM:-0500
TZOFFSETTO:-0400
TZNAME:EDT
DTSTART:20220313T070000
END:DAYLIGHT
BEGIN:STANDARD
TZOFFSETFROM:-0400
TZOFFSETTO:-0500
TZNAME:EST
DTSTART:20221106T060000
END:STANDARD
END:VTIMEZONE
BEGIN:VEVENT
DTSTART;VALUE=DATE:20220913
DTEND;VALUE=DATE:20220914
DTSTAMP:20260421T073819
CREATED:20220908T181215Z
LAST-MODIFIED:20220908T181313Z
UID:6781-1663027200-1663113599@gbta.org
SUMMARY:Silicon Valley Chapter - TMC Sourcing 2.0
DESCRIPTION:Join Bryan Holmes\, Founder of Bid Logic Solutions\, as he presents TMC Sourcing 2.0. In this presentation Bryan takes you on an insightful journey from TMC Sourcing 1.0\, where the TMC’s people are center stage\, to TMC Sourcing 2.0\, where the TMC’s technology is center stage—yet people still infinitely matter. In his presentation\, Bryan also covers pragmatic tips to source a TMC in this new 2.0 environment while also sharing techniques to improve your critical thinking skills. This presentation is crucial for buyers considering putting their TMC business out to bid\, and anyone charged with making better decisions for their organization. \nEvent Speaker \nBryan Holmes\, CEO of Bid Logic Solutions Inc | Bid Logic Solutions Inc. \nLocation of Event \nHoliday Inn & Suites Silicon Valley Milpitas \nVenue Information \nHoliday Inn & Suites Silicon Valley Milpitas \nAddress \n1100 Cadillac Ct Milpitas\, CA 95035
URL:https://gbta.org/fr/event/silicon-valley-chapter-tmc-sourcing-2-0/
LOCATION:in-person
CATEGORIES:US Chapter Event
END:VEVENT
BEGIN:VEVENT
DTSTART;TZID=America/New_York:20220913T110000
DTEND;TZID=America/New_York:20220913T131000
DTSTAMP:20260421T073819
CREATED:20220811T184543Z
LAST-MODIFIED:20220822T215158Z
UID:5232-1663066800-1663074600@gbta.org
SUMMARY:Tennessee Chapter - Recognizing and Overcoming the Imposter Syndrome
DESCRIPTION:September 13\, 2022\, 11:00 AM – 1:10 PM CDT \nDo I really belong here? \nRecognizing and overcoming the Imposter Syndrome\, presented by Dr. Maureen Gannon \nIn this session participants will learn the definition of Imposter Syndrome and will complete a brief self-assessment to determine where they fall on the Imposter Syndrome scale. Common causes for Imposter Syndrome feelings and characteristics of individuals who experience these feelings will be discussed. Importantly\, participants will learn how to mitigate these feelings in themselves and how to help others who may suffer from these feelings. \nSpeaker: \nDr. Maureen Gannon \nAssociate Dean and Professor \nVanderbilt University and Medical Center \nVenue: \nSheraton Grand Nashville Downtown \n623 Union St \nNashville\, TN 37219 \nComplimentary Valet Parking \nPricing: \n$30.00 TBTA and GBTA All-Access Members \n$40.00 Guest
URL:https://gbta.org/fr/event/tennessee-chapter-recognizing-and-overcoming-the-imposter-syndrome/
LOCATION:in-person
CATEGORIES:North America,US Chapter Event
END:VEVENT
END:VCALENDAR