BEGIN:VCALENDAR
VERSION:2.0
PRODID:-//Global Business Travel Association - GBTA - ECPv6.9.0//NONSGML v1.0//EN
CALSCALE:GREGORIAN
METHOD:PUBLISH
X-ORIGINAL-URL:https://gbta.org/fr
X-WR-CALDESC:Évènements pour Global Business Travel Association - GBTA
REFRESH-INTERVAL;VALUE=DURATION:PT1H
X-Robots-Tag:noindex
X-PUBLISHED-TTL:PT1H
BEGIN:VTIMEZONE
TZID:America/New_York
BEGIN:DAYLIGHT
TZOFFSETFROM:-0500
TZOFFSETTO:-0400
TZNAME:EDT
DTSTART:20220313T070000
END:DAYLIGHT
BEGIN:STANDARD
TZOFFSETFROM:-0400
TZOFFSETTO:-0500
TZNAME:EST
DTSTART:20221106T060000
END:STANDARD
TZID:Europe/London
BEGIN:DAYLIGHT
TZOFFSETFROM:+0000
TZOFFSETTO:+0100
TZNAME:BST
DTSTART:20220327T010000
END:DAYLIGHT
BEGIN:STANDARD
TZOFFSETFROM:+0100
TZOFFSETTO:+0000
TZNAME:GMT
DTSTART:20221030T010000
END:STANDARD
END:VTIMEZONE
BEGIN:VEVENT
DTSTART;VALUE=DATE:20220915
DTEND;VALUE=DATE:20220916
DTSTAMP:20260421T124551
CREATED:20220907T235637Z
LAST-MODIFIED:20220915T221959Z
UID:6708-1663200000-1663286399@gbta.org
SUMMARY:Philadelphia Chapter - 2022 Education Day - GTP Credit Approved
DESCRIPTION:Make plans to join your fellow business travel industry colleagues for a full day of education and networking. \nThe topics for our sessions will highlight the following: \n\nThe changing dynamics of business travel following the pandemic\nSustainability\nRFPs in today’s environment – what’s new?\nBuilding and measuring the value in a travel program\nCurrent issues surrounding travel and meetings and events\n\nWe’ll end the day with a networking happy hour! \nVenue Information \n1700 Market\n1700 Market Street – 6th Floor\nPhiladelphia\, PA 19103 \nPricing \n\n\n\n$125.00\nA Ticket For A Member\n\n\n$150.00\nAfter 12:00 am September 7\n\n\n$150.00\nA Ticket For A Guest Of Our Association\n\n\n$175.00\nAfter 12:00 am September 7\n\n\n$125.00\nGBTA All-Access Member Who Is NOT A Philadelphia Chapter Member\n\n\n$150.00\nAfter 12:00 am September 7
URL:https://gbta.org/fr/event/philadelphia-chapter-2022-education-day/
CATEGORIES:US Chapter Event
END:VEVENT
BEGIN:VEVENT
DTSTART;VALUE=DATE:20220915
DTEND;VALUE=DATE:20220916
DTSTAMP:20260421T124551
CREATED:20220913T182442Z
LAST-MODIFIED:20220915T223210Z
UID:7054-1663200000-1663286399@gbta.org
SUMMARY:Bay Area Chapter - Sustainability - GTP Credit Approved
DESCRIPTION:Fresh from GBTA in San Diego\, join BABTA’s Mark Ziegler (NetApp) and Jenny Sabineu (Salesforce) to discuss the work of GBTA’s sustainability committee. Both GBTA committee members\, Jenny and Mark will showcase the refreshed sustainability toolkit and demonstrate how it can be used to create a meaningful sustainability approach for companies of all sizes and travel budgets. Bring your questions and prepare to engage on this important topic. \nOur 9/15 event runs from 5.30-8.00pm. Join us for a reception hosted by Omni San Francisco (wine\, beer\, sodas and sparkling water are complementary\, cash bar for cocktails). Dinner will be served with complementary red or white wine. Join us for this great opportunity to connect\, network and learn more on Sustainability at Omni San Francisco! \n  \nEvent Speaker \nMark Ziegler\, Senior Travel Manager Global Travel Services | NetApp \nVenue Information \nOmni San Francisco\n500 California Street (at Montgomery)\, San Francisco \, California 94104\nPhone:  (415) 677-9494\nhttps://www.omnihotels.com/hotels/san-francisco \nLocation of Event \nSan Francisco \n 
URL:https://gbta.org/fr/event/bay-area-chapter-sustainability/
LOCATION:in-person
CATEGORIES:US Chapter Event
END:VEVENT
BEGIN:VEVENT
DTSTART;TZID=Europe/London:20220915T100000
DTEND;TZID=Europe/London:20220915T110000
DTSTAMP:20260421T124551
CREATED:20220728T181111Z
LAST-MODIFIED:20220907T132917Z
UID:3010-1663236000-1663239600@gbta.org
SUMMARY:GBTA Europe Town Hall
DESCRIPTION:September 15\, 2022\, 10:00 am – 11:00 am (BST) 11:00 am – 12:00 pm (CET) \nGBTA Europe Town Hall\, is a monthly 60-minute session\, including an update on what’s happening in our association from Ben Park\, Chair of the GBTA Europe Advisory Board and Catherine Logan\, Regional Vice President – GBTA. \nThis month they are joined by members of the Europe Accommodations Committee who will be looking at how to build successful buyer-supplier relationships based on transparency and trust – leading to better outcomes for both parties. Looking a future trend in rates; the challenge around sustainability and best ways of booking\, the committee will discuss how by working together buyers and suppliers can overcome these challenges.
URL:https://gbta.org/fr/event/gbta-europe-town-hall/
LOCATION:Virtual
CATEGORIES:Europe,Italy,Summits & Workshops
END:VEVENT
BEGIN:VEVENT
DTSTART;TZID=America/New_York:20220915T130000
DTEND;TZID=America/New_York:20220915T140000
DTSTAMP:20260421T124551
CREATED:20220731T113942Z
LAST-MODIFIED:20220825T021956Z
UID:3275-1663246800-1663250400@gbta.org
SUMMARY:Business travel returns: how travel managers are responding
DESCRIPTION:September 15\, 2022\, 1:00 PM – 2:00 PM EDT \nWith corporate travel and in-person meetings ramping up\, businesses need to be extra thoughtful about how they’re implementing—or re-implementing—travel programs. \nIn conjunction with this meaningful return to business travel\, Uber for Business and GBTA created a first-ever ground transportation report based on a quantitative survey of corporate travel managers across the US and Canada. \nJoin this interactive webinar\, presented by research and travel experts from GBTA and Uber for Business\, to learn how travel managers at some of the world’s largest companies are thinking about: \n\nSustainability in travel programs\nManaged ground transportation policies and processes\nHow meals and per diems fit into travel programs\nWhat’s in store for the future\n\nCost: Complimentary \n \nMade Possible by
URL:https://gbta.org/fr/event/business-travel-returns-how-travel-managers-are-responding/
LOCATION:Virtual
CATEGORIES:Europe,North America,Summits & Workshops
END:VEVENT
BEGIN:VEVENT
DTSTART;TZID=America/New_York:20220915T150000
DTEND;TZID=America/New_York:20220915T190000
DTSTAMP:20260421T124551
CREATED:20220803T175447Z
LAST-MODIFIED:20220822T221555Z
UID:3810-1663254000-1663268400@gbta.org
SUMMARY:New England Chapter - September 2022 Chapter Meeting: Hotel Roadmap - GTP Credit Approved
DESCRIPTION:September 15\, 2022 \n3-5 PM PT Meeting\n5-7 PM PT Reception \nHotel Roadmap: Insider Tips for Navigating RFP Season and Resetting Hotel Partnerships \nJoin us on September 15th at the Hilton Boston/Dedham hotel for an in-depth panel discussion on the current challenges that are being faced as we negotiate preferred hotel programs\, adjust our approaches to groups/meetings\, and reset our buyer/supplier hotel partnerships for 2023.  As we move forward during these interesting times in the travel industry\, corporate travel buyers and hotel suppliers are having to pivot like they have never done before.  This thought-provoking conversation will address best practices and important updates that we all need to be considering regardless of the side of the table we each sit on. \nWe will kick off the program with Sebastian Colella\, VP of Pinnacle Advisory Group\, providing an outlook of the hotel landscape in the company months.  This will set the stage for our expert panel discussion moderated by Rena Briggs.  They will tackle how to navigate the new terrain ahead and how to manage goals and expectations for buyers\, suppliers and travelers.  Register by August 31 to be entered into the early bird raffle.  We look forward to seeing you! \nLocation: \nHilton Boston Dedham: 25 Allied Dr\, Dedham MA 02026 \nModerator: \nRena Briggs\, Omni Hotels & Resorts \nPanelists: \nDavid Mollov – TripBAM\nBev Allen – HelmsBriscoe\nTerri Moreno – Aspen Dental\nJohn Hamilton – Pyramid Hotel Group\nNina Marcello  – AMEX GBTA Hotel Consulting
URL:https://gbta.org/fr/event/new-england-chapter-september-2022-chapter-meeting-hotel-roadmap/
LOCATION:in-person
CATEGORIES:North America,US Chapter Event
END:VEVENT
BEGIN:VEVENT
DTSTART;TZID=America/New_York:20220915T163000
DTEND;TZID=America/New_York:20220915T193000
DTSTAMP:20260421T124551
CREATED:20220728T182456Z
LAST-MODIFIED:20220822T223106Z
UID:3018-1663259400-1663270200@gbta.org
SUMMARY:Greater DC Metro Chapter - Annual Crab Feast - A Maryland Tradition
DESCRIPTION:We are bringing the Annual Crab Feast Tradition to the Greater DC Metro Chapter of GBTA! \nJoin us at Mike’s Restaurant & Crabhouse in Riva\, MD \nEnjoy great company\, great conversations\, and ALL YOU CAN EAT CRABS!!! \nBring your family\, friends\, and clients. Enjoy all you can eat crabs on the water at Mike’s Crabhouse. Everyone is welcome at this feast! It’s an AWESOME EVENING of networking and fun. \nAlong with all you can eat crabs\, there is also all you can eat and drink: chicken wings\, coleslaw\, hush puppies\, domestic draft beer\, house wine\, coffee\, tea\, & soda. \nVenue: \nMike’s Restaurant & Crab House 3030 Riva Road Riva\, MD 21140 \nPricing: \n$75.00 Member Ticket \n$85.00 after 07:00 pm September 9 \n$65.00 Earlybird rate before August 15 \n$95.00 Guest Ticket \n$105.00 after 07:00 pm September 9 \n$85.00 Earlybird rate before August 15
URL:https://gbta.org/fr/event/greater-dc-metro-chapter-annual-crab-feast-a-maryland-tradition/
LOCATION:in-person
CATEGORIES:North America,US Chapter Event
END:VEVENT
END:VCALENDAR