BEGIN:VCALENDAR
VERSION:2.0
PRODID:-//Global Business Travel Association - GBTA - ECPv6.9.0//NONSGML v1.0//EN
CALSCALE:GREGORIAN
METHOD:PUBLISH
X-ORIGINAL-URL:https://gbta.org/fr
X-WR-CALDESC:Évènements pour Global Business Travel Association - GBTA
REFRESH-INTERVAL;VALUE=DURATION:PT1H
X-Robots-Tag:noindex
X-PUBLISHED-TTL:PT1H
BEGIN:VTIMEZONE
TZID:Europe/Brussels
BEGIN:DAYLIGHT
TZOFFSETFROM:+0100
TZOFFSETTO:+0200
TZNAME:CEST
DTSTART:20220327T010000
END:DAYLIGHT
BEGIN:STANDARD
TZOFFSETFROM:+0200
TZOFFSETTO:+0100
TZNAME:CET
DTSTART:20221030T010000
END:STANDARD
TZID:America/New_York
BEGIN:DAYLIGHT
TZOFFSETFROM:-0500
TZOFFSETTO:-0400
TZNAME:EDT
DTSTART:20220313T070000
END:DAYLIGHT
BEGIN:STANDARD
TZOFFSETFROM:-0400
TZOFFSETTO:-0500
TZNAME:EST
DTSTART:20221106T060000
END:STANDARD
END:VTIMEZONE
BEGIN:VEVENT
DTSTART;VALUE=DATE:20221108
DTEND;VALUE=DATE:20221111
DTSTAMP:20260420T064318
CREATED:20220721T125944Z
LAST-MODIFIED:20221020T144051Z
UID:2738-1667865600-1668124799@gbta.org
SUMMARY:GBTA Conference 2022 - Brussels in Partnership with VDR
DESCRIPTION:GBTA Conference 2022 – Brussels in Partnership with VDR on 8-10 November is Europe’s largest conference for business travel and meetings management professionals. \nIt is important now\, more than ever\, that we come together to design and devise new strategies to protect our industry. The heart of our industry’s growth is the value of our relationships. Whether you’re a Buyer or a Supplier\, it is by innovating together that will drive our industry forward. \nWhy? It’s time to (Re)Connect\, to get back to travel\, back to business\, and back to connecting with what matters most. This is your chance to (Re)Imagine\, to think differently and evolve for our collective future. And it’s a way to (Re)Create what’s next for our global industry\, travelers and association. Come join the journey. \nAttend GBTA Conference 2022 – Brussels in partnership with VDR and you’ll return to your organization armed with new knowledge\, expertise and impactful best practices to move forward successfully as we continue to push and prepare for a strong return of business travel. \nMore Information >>
URL:https://gbta.org/fr/event/gbta-conference-2022-brussels-in-partnership-with-vdr/
LOCATION:in-person
CATEGORIES:Conference/Convention,Europe,France
ATTACH;FMTTYPE=image/jpeg:https://gbta.org/wp-content/uploads/Brussels-1.jpg
END:VEVENT
BEGIN:VEVENT
DTSTART;VALUE=DATE:20221110
DTEND;VALUE=DATE:20221111
DTSTAMP:20260420T064318
CREATED:20221021T154304Z
LAST-MODIFIED:20221021T154404Z
UID:7763-1668038400-1668124799@gbta.org
SUMMARY:North Central Chapter - Round Table Discussions on Hot Travel Industry Topics
DESCRIPTION:Round Table Discussions on Hot Travel Industry Topics \nLocation of Event \nMinneapolis\, MN \nVenue Information \nHYATT REGENCY by Mall of America \n3200 East 81st Street\, Bloomington\, MN 55425 \nwww.hyattregencybloomington.com \nFree parking \nRegistration \n$75.00 guest fee \n 
URL:https://gbta.org/fr/event/north-central-chapter-round-table-discussions-on-hot-travel-industry-topics/
CATEGORIES:US Chapter Event
END:VEVENT
BEGIN:VEVENT
DTSTART;VALUE=DATE:20221110
DTEND;VALUE=DATE:20221111
DTSTAMP:20260420T064318
CREATED:20221107T180545Z
LAST-MODIFIED:20221107T180600Z
UID:7967-1668038400-1668124799@gbta.org
SUMMARY:Utah Chapter - Visit Salt Lake Sports and Tourism update
DESCRIPTION:High level patterns of sports and tourism on a global level and narrowing down to how that effects our local community and travel.  Why Visit Salt Lake launched the sports umbrella and what the outcome they hope to achieve.  Breaking down what the busines model is for the sports and tourism sector. \nLocation of Event \nSalt Lake City\, UT \nVenue Information \nRadisson Salt Lake City\, 215 W South Temple\, SLC UT 84101 \nEvent Speaker \nClay Partain\, Managing Director | Sports Salt Lake \nPricing and Registration \n35.00 advance\n50.00 at the door
URL:https://gbta.org/fr/event/utah-chapter-visit-salt-lake-sports-and-tourism-update/
LOCATION:in-person
CATEGORIES:US Chapter Event
END:VEVENT
END:VCALENDAR