BEGIN:VCALENDAR
VERSION:2.0
PRODID:-//Global Business Travel Association - GBTA - ECPv6.9.0//NONSGML v1.0//EN
CALSCALE:GREGORIAN
METHOD:PUBLISH
X-ORIGINAL-URL:https://gbta.org/fr
X-WR-CALDESC:Évènements pour Global Business Travel Association - GBTA
REFRESH-INTERVAL;VALUE=DURATION:PT1H
X-Robots-Tag:noindex
X-PUBLISHED-TTL:PT1H
BEGIN:VTIMEZONE
TZID:America/New_York
BEGIN:DAYLIGHT
TZOFFSETFROM:-0500
TZOFFSETTO:-0400
TZNAME:EDT
DTSTART:20230312T070000
END:DAYLIGHT
BEGIN:STANDARD
TZOFFSETFROM:-0400
TZOFFSETTO:-0500
TZNAME:EST
DTSTART:20231105T060000
END:STANDARD
END:VTIMEZONE
BEGIN:VEVENT
DTSTART;VALUE=DATE:20230216
DTEND;VALUE=DATE:20230217
DTSTAMP:20260420T000100
CREATED:20230120T100924Z
LAST-MODIFIED:20230120T101211Z
UID:8817-1676505600-1676591999@gbta.org
SUMMARY:Philadelphia Chapter - OK\, Boomer! An Intergenerational Discussion
DESCRIPTION:Hear from our amazing panel as we explore the Generational Divide! \nJust how much does the generation you were born into shape you as a person\, more specifically an employee and leader? \nHow does this generational conditioning create personal and professional roadblocks in the workplace? \nWe’ll speak with representatives of each generation from Baby Boomer to Gen Z in an effort to break down stereotypes and increase understanding among the generational divides. \nEvent Speaker \nChristina Reichelt\, Senior Director\, Global Client Team | BCD Travel \nLocation of Event \nPhiladelphia\, Pa \nVenue Information \nHilton Garden Inn Philadelphia Center City\n1100 Arch St\nPhiladelphia\, PA 19107 \nParking Garage Available At Hotel\n2023 parking rates: \n1 hour              $15.00\n1-2 hours         $26.00\n2-12 hours       $32.00 \nPricing and Registration \n$0.00 Member Chapter Meeting Price \n$75.00 Guest Price \n$0.00 GBTA All-Access Member Who Is NOT A Philadelphia Chapter Member
URL:https://gbta.org/fr/event/philadelphia-chapter-ok-boomer-an-intergenerational-discussion/
CATEGORIES:North America,US Chapter Event
END:VEVENT
BEGIN:VEVENT
DTSTART;VALUE=DATE:20230216
DTEND;VALUE=DATE:20230217
DTSTAMP:20260420T000100
CREATED:20230202T154615Z
LAST-MODIFIED:20230202T154645Z
UID:9033-1676505600-1676591999@gbta.org
SUMMARY:Bay Area Chapter - TMC Sourcing 2.0 and Critical Thinking
DESCRIPTION:Selecting the right Travel Management Company (TMC) is the most important decision travel buyers make for their travel program. However\, today’s process for sourcing TMC’s is out-of-date\, inefficient\, and frequently falls short of expectations. \nJoin Bryan Holmes\, Founder of Bid Logic Solutions\, as he presents TMC Sourcing 2.0. In this presentation Bryan brings in critical thinking to the sourcing process\, while taking you on an insightful journey from TMC Sourcing 1.0\, where the TMC’s people are center stage\, to TMC Sourcing 2.0\, where the TMC’s technology is center stage—yet people still infinitely matter. \nThis presentation is critical to both buyers and sellers alike. Come prepared to improve your decision making skills and learn concrete things you can do to add more value to the sourcing process\, whether you’re the buyer or the seller. \nEvent Speaker \nBryan Holmes\, Founder and CEO | Bid Logic Solutions Inc. \nLocation of Event \nSan Francisco\, CA \nVenue Information \nGrand Hyatt San Francisco\n345 Stockton St\, San Francisco\, CA 94108\nhttps://www.hyatt.com/en-US/hotel/california/grand-hyatt-san-francisco/sfous?src=corp_lclb_gmb_seo_sfous
URL:https://gbta.org/fr/event/bay-area-chapter-tmc-sourcing-2-0-and-critical-thinking/
CATEGORIES:North America,US Chapter Event
END:VEVENT
END:VCALENDAR