BEGIN:VCALENDAR
VERSION:2.0
PRODID:-//Global Business Travel Association - GBTA - ECPv6.9.0//NONSGML v1.0//EN
CALSCALE:GREGORIAN
METHOD:PUBLISH
X-WR-CALNAME:Global Business Travel Association - GBTA
X-ORIGINAL-URL:https://gbta.org/fr
X-WR-CALDESC:Évènements pour Global Business Travel Association - GBTA
REFRESH-INTERVAL;VALUE=DURATION:PT1H
X-Robots-Tag:noindex
X-PUBLISHED-TTL:PT1H
BEGIN:VTIMEZONE
TZID:America/New_York
BEGIN:DAYLIGHT
TZOFFSETFROM:-0500
TZOFFSETTO:-0400
TZNAME:EDT
DTSTART:20230312T070000
END:DAYLIGHT
BEGIN:STANDARD
TZOFFSETFROM:-0400
TZOFFSETTO:-0500
TZNAME:EST
DTSTART:20231105T060000
END:STANDARD
END:VTIMEZONE
BEGIN:VEVENT
DTSTART;TZID=America/New_York:20230222T150000
DTEND;TZID=America/New_York:20230222T153000
DTSTAMP:20260419T235811
CREATED:20230201T141845Z
LAST-MODIFIED:20230203T143351Z
UID:9008-1677078000-1677079800@gbta.org
SUMMARY:GBTA's BTI Outlook: A Look at Europe
DESCRIPTION:Timezone\n3PM CET \nFor the past 14 years\, the BTI has been a signature GBTA research study. It is a critical industry planning tool that provides an exhaustive study of business travel spending and growth covering 75 countries across 48 industries and provides a five-year forward looking forecast. It provides demand-side measurements of all types of business trips and all spending while on a trip. This includes everything spent on business travel including airfare\, hotel\, dining\, car rental\, train travel\, incidental purchases made during the trip\, taxi/ride sharing\, etc. In addition\, it is the industry benchmark for business travel spend and receives considerable media coverage. \nIn partnership with Mastercard\, this 30-minute webinar will focus on Europe with a deep-dive into the region focusing on key topics including business travel trends 2022 and beyond\, insights into business travelers’ sentiment toward returning to travel\, how sustainability and technology are changing business travel\, and more. \nJoin us for a look at the state of the business travel industry in Europe and what’s likely in store for the next five years. \nEvent Speakers \n\nCatherine Logan\nRegional Vice President – EMEA\nGBTA \n\nMark Sharoff\nResearch Manager\nGBTA \nMade Possible by \n \nPricing \nComplimentary
URL:https://gbta.org/fr/event/gbtas-bti-outlook-a-look-at-europe/
LOCATION:Virtual
CATEGORIES:Online Courses & Webinars
END:VEVENT
END:VCALENDAR