BEGIN:VCALENDAR
VERSION:2.0
PRODID:-//Global Business Travel Association - GBTA - ECPv6.9.0//NONSGML v1.0//EN
CALSCALE:GREGORIAN
METHOD:PUBLISH
X-WR-CALNAME:Global Business Travel Association - GBTA
X-ORIGINAL-URL:https://gbta.org/fr
X-WR-CALDESC:Évènements pour Global Business Travel Association - GBTA
REFRESH-INTERVAL;VALUE=DURATION:PT1H
X-Robots-Tag:noindex
X-PUBLISHED-TTL:PT1H
BEGIN:VTIMEZONE
TZID:America/New_York
BEGIN:DAYLIGHT
TZOFFSETFROM:-0500
TZOFFSETTO:-0400
TZNAME:EDT
DTSTART:20230312T070000
END:DAYLIGHT
BEGIN:STANDARD
TZOFFSETFROM:-0400
TZOFFSETTO:-0500
TZNAME:EST
DTSTART:20231105T060000
END:STANDARD
END:VTIMEZONE
BEGIN:VEVENT
DTSTART;VALUE=DATE:20230314
DTEND;VALUE=DATE:20230315
DTSTAMP:20260419T194556
CREATED:20230210T143400Z
LAST-MODIFIED:20230216T124244Z
UID:9160-1678752000-1678838399@gbta.org
SUMMARY:Tennessee Chapter - Yes Is the Answer: How Positivity\, Passion\, and Pineapples Will Transform Your Leadership and Your Life - GTP Credit Approved
DESCRIPTION:Four Simple Steps. That’s all it takes to deliver legendary service and build a thriving team culture. Is negative service impacting your bottom line? Do you find it hard to maintain your confidence when you have to disappoint a customer? Christine Trippi shares her energy and passion for Sweet Hospitality—the key to success in the hospitality industry\, by sharing the simple steps of responding positively while developing strong relationships.  Christine helps hotel teams to Be Confident\, Be Empowered\, and Lead from the Heart through mindset and proprietary strategy that leverages each leader to take action and get Sweet Results! \nEvent Speaker \nChristine Trippi\, Author\, Founder & CEO | The Wise Pineapple \nLocation of Event \nFranklin\, TN \nVenue Information \n9150 Carothers Pkwy\, Franklin\, TN 37067 \nPricing and Registration \n$35.00 GBTA-TN Member Registration\n$45.00 after 12:00 pm March 13 \n$35.00 GBTA All-Access Registration\n$45.00 after 12:00 pm March 13 \n$45.00 Guest Registration\n$55.00 after 12:00 pm March 13
URL:https://gbta.org/fr/event/tennessee-chapter-yes-is-the-answer-how-positivity-passion-and-pineapples-will-transform-your-leadership-and-your-life/
CATEGORIES:North America,US Chapter Event
END:VEVENT
END:VCALENDAR