BEGIN:VCALENDAR
VERSION:2.0
PRODID:-//Global Business Travel Association - GBTA - ECPv6.9.0//NONSGML v1.0//EN
CALSCALE:GREGORIAN
METHOD:PUBLISH
X-WR-CALNAME:Global Business Travel Association - GBTA
X-ORIGINAL-URL:https://gbta.org/fr
X-WR-CALDESC:Évènements pour Global Business Travel Association - GBTA
REFRESH-INTERVAL;VALUE=DURATION:PT1H
X-Robots-Tag:noindex
X-PUBLISHED-TTL:PT1H
BEGIN:VTIMEZONE
TZID:America/New_York
BEGIN:DAYLIGHT
TZOFFSETFROM:-0500
TZOFFSETTO:-0400
TZNAME:EDT
DTSTART:20230312T070000
END:DAYLIGHT
BEGIN:STANDARD
TZOFFSETFROM:-0400
TZOFFSETTO:-0500
TZNAME:EST
DTSTART:20231105T060000
END:STANDARD
END:VTIMEZONE
BEGIN:VEVENT
DTSTART;TZID=America/New_York:20230404T100000
DTEND;TZID=America/New_York:20230404T110000
DTSTAMP:20260419T220816
CREATED:20230222T154336Z
LAST-MODIFIED:20230321T085552Z
UID:9267-1680602400-1680606000@gbta.org
SUMMARY:Webinar GBTA Italia - Comunicare in Modo Inclusivo e Transgenerazionale
DESCRIPTION:Tema \nLa comunicazione è una parte essenziale del lavoro di ogni professionista del Travel\, tanto che la buona riuscita di un progetto spesso dipende anche da come viene comunicato. \nIl webinar illustrerà com’è cambiato il modo di comunicare negli ultimi anni\, come comunicare in modo efficace con le diverse generazioni presenti in azienda\, come raggiungere i diversi stakeholder interni ed esterni all’azienda e l’importanza dei feedback. \nNello specifico\, tra i temi che verranno toccati: \n\nConosce il pubblico di riferimento\nCentralità del contenuto\nLa personalizzazione del messaggio\nCrosscontaminazione generazionale\nI canali di comunicazione disponibili\nCome ascoltare l’audience per comprendere l’efficacia dei messaggi\n\nSpeaker \nIl webinar vedrà la partecipazione di: \n\n\n\n\nCatiana Coletta\nMarketing Coordinator & Brainpull Partner\, AD Di Conversano srl.\n\n\n\nFlavia Trezzini\nResponsabile Marketing e Comunicazione AirPlus International Italia\n\n\n\nIsabella Maggi\nMarketing & Communication Director Gattinoni Group >>>\n\n\n\nPaola Olivari\nMarketing & Communication Director Gattinoni Group\n\n\n\n  \nPartner \nL’evento è possibile grazie agli Annual Partner di GBTA Italia: \n \n 
URL:https://gbta.org/fr/event/webinar-gbta-italia-comunicare-in-modo-inclusivo-e-transgenerazionale/
CATEGORIES:Italy,Online Courses & Webinars
END:VEVENT
END:VCALENDAR