BEGIN:VCALENDAR
VERSION:2.0
PRODID:-//Global Business Travel Association - GBTA - ECPv6.9.0//NONSGML v1.0//EN
CALSCALE:GREGORIAN
METHOD:PUBLISH
X-ORIGINAL-URL:https://gbta.org/fr
X-WR-CALDESC:Évènements pour Global Business Travel Association - GBTA
REFRESH-INTERVAL;VALUE=DURATION:PT1H
X-Robots-Tag:noindex
X-PUBLISHED-TTL:PT1H
BEGIN:VTIMEZONE
TZID:America/New_York
BEGIN:DAYLIGHT
TZOFFSETFROM:-0500
TZOFFSETTO:-0400
TZNAME:EDT
DTSTART:20230312T070000
END:DAYLIGHT
BEGIN:STANDARD
TZOFFSETFROM:-0400
TZOFFSETTO:-0500
TZNAME:EST
DTSTART:20231105T060000
END:STANDARD
END:VTIMEZONE
BEGIN:VEVENT
DTSTART;TZID=America/New_York:20230609T160000
DTEND;TZID=America/New_York:20230609T180000
DTSTAMP:20260420T023405
CREATED:20230609T095654Z
LAST-MODIFIED:20230609T100053Z
UID:11239-1686326400-1686333600@gbta.org
SUMMARY:All About Networking
DESCRIPTION:Join us for an evening of networking with tasty appetizers\, and refreshing beverages hosted by the newly renovated Aloft Hotel! You’ll have the chance to experience the stunning design and style of our bar\, lounge\, and backyard patio while building meaningful relationships with like-minded individuals in the travel industry. Don’t miss out on this unique opportunity to expand your network and enjoy a fun-filled evening with the GBTA professionals. Reserve your spot today! \nLocation of Event \n\n\n\nAloft Santa Clara\n510 America Center Ct.\nSan Jose\, CA 95002 \nPricing and Registration \n\n\n\n$10.00 Member Ticket\n$30.00 Non-Member or Guest Ticket\n$10.00 GBTA All Access Members Only \nEvent Sponsor
URL:https://gbta.org/fr/event/all-about-networking-2/
CATEGORIES:US Chapter Event
END:VEVENT
END:VCALENDAR