BEGIN:VCALENDAR
VERSION:2.0
PRODID:-//Global Business Travel Association - GBTA - ECPv6.9.0//NONSGML v1.0//EN
CALSCALE:GREGORIAN
METHOD:PUBLISH
X-WR-CALNAME:Global Business Travel Association - GBTA
X-ORIGINAL-URL:https://gbta.org/fr
X-WR-CALDESC:Évènements pour Global Business Travel Association - GBTA
REFRESH-INTERVAL;VALUE=DURATION:PT1H
X-Robots-Tag:noindex
X-PUBLISHED-TTL:PT1H
BEGIN:VTIMEZONE
TZID:America/New_York
BEGIN:DAYLIGHT
TZOFFSETFROM:-0500
TZOFFSETTO:-0400
TZNAME:EDT
DTSTART:20230312T070000
END:DAYLIGHT
BEGIN:STANDARD
TZOFFSETFROM:-0400
TZOFFSETTO:-0500
TZNAME:EST
DTSTART:20231105T060000
END:STANDARD
END:VTIMEZONE
BEGIN:VEVENT
DTSTART;VALUE=DATE:20230613
DTEND;VALUE=DATE:20230614
DTSTAMP:20260420T023139
CREATED:20230131T040153Z
LAST-MODIFIED:20230518T024435Z
UID:8937-1686614400-1686700799@gbta.org
SUMMARY:GBTA Sustainability Summit: Building a Greener Future for Business Travel
DESCRIPTION:Building a greener future for business travel must be part of our game plan today to make sure we can still connect people and travel for business tomorrow.  GBTA will be hosting its second global Sustainability Summit. This one-day\, high-level event\, will bring together experts\, industry and policy leaders to outline concrete solutions to manage the environmental impact of business travel.It will address key topics that require radical industry collaboration\, such as the development of clean travel solutions\, sharing of information and data\, and empowerment of business travelers to select greener travel options.This must-attend\, interactive event will foster connections and exchange by providing a forum for frank discussions about challenges and opportunities to drive climate action in the business travel sector. The Sustainability Summit will also inform discussions at the GBTA Legislative Summit in the two days to follow\, where attendees will advocate for policies that help finance and accelerate the green transition. Who should attend?• Corporate travel buyers working to integrate sustainability into their program  • Suppliers providing sustainable solutions for corporate travel programs  • Policymakers laying the groundwork for a sustainable travel ecosystem  • Civil society advocating for the next generation of sustainability solutions   What’s on the agenda?• High-level policymakers on enabling policies for climate action in business travel• Business travel pioneers on how our industry can lead the green transition  • Innovators Series: technology and the travel of tomorrow  • Case studies: best practices to build a sustainable travel program  • Financing the transition: who pays?• Activating point of sale: the role of information and booking platforms  • Compensating for emissions: Navigating the next generation of carbon offsets  • Beyond climate: what else to pave the way for sustainable business travel?   This event builds upon GBTA’s inaugural Sustainability Summit\, held in Brussels in November 2022. See event speakers\, photos\, and key takeaways here. \nView more information
URL:https://gbta.org/fr/event/gbta-sustainability-in-business-travel-summit/
CATEGORIES:North America,Summits & Workshops,Sustainability
ATTACH;FMTTYPE=image/jpeg:https://gbta.org/wp-content/uploads/sustaianbility-banner-gbta.jpg
END:VEVENT
BEGIN:VEVENT
DTSTART;TZID=America/New_York:20230613T110000
DTEND;TZID=America/New_York:20230613T130000
DTSTAMP:20260420T023139
CREATED:20230606T051049Z
LAST-MODIFIED:20230606T051858Z
UID:11145-1686654000-1686661200@gbta.org
SUMMARY:Utah Business Travel Association Monthly Meeting Luncheon
DESCRIPTION:Luncheon Date \nThursday\, June 13\, 2023 11:00 a.m. – 1:00 p.m.\n11:00 a.m. – 11:30 a.m. Registration and Networking\n11:30 a.m. – 1:00 p.m. Lunch Served\, Announcements and Keynote Speaker \nLocation of Event \nEmbassy Suites – West Valley City\n3524 S. Market Street\nWest Valley City\, UT 84119\nhttp://embassysuites3.hilton.com/en/hotels/utah/embassy-suites-salt-lake-west-valley-city-SLCSMES/index.html \nEvent Subject \nThe Problems and Solutions to Corporate Travel “Leakage”\nEver since technology was introduced into the corporate travel landscape\, the ability for travelers to have a plethora of options in their bookings has led to multiple challenges for both corporate travel suppliers and managers. The primary challenge that arises from these options is that travelers choose them\, which means they are not staying within the confines of the corporate travel program. This booking “leakage” presents multiple gaps in an organization’s travel program\, including gaps in duty of care\, compliance oversight\, savings management\, and more. How did we get here\, what have we done to solve this challenge\, and what technologies have emerged to help bridge these gaps? Join us as Justin Morris from Traxo discusses the history\, challenges\, and potential solutions. \nEvent Speaker \nJustin Morris\, Director of Sales | Traxo
URL:https://gbta.org/fr/event/utah-business-travel-association-monthly-meeting-luncheon/
CATEGORIES:US Chapter Event
END:VEVENT
END:VCALENDAR