BEGIN:VCALENDAR
VERSION:2.0
PRODID:-//Global Business Travel Association - GBTA - ECPv6.9.0//NONSGML v1.0//EN
CALSCALE:GREGORIAN
METHOD:PUBLISH
X-WR-CALNAME:Global Business Travel Association - GBTA
X-ORIGINAL-URL:https://gbta.org/fr
X-WR-CALDESC:Évènements pour Global Business Travel Association - GBTA
REFRESH-INTERVAL;VALUE=DURATION:PT1H
X-Robots-Tag:noindex
X-PUBLISHED-TTL:PT1H
BEGIN:VTIMEZONE
TZID:America/New_York
BEGIN:DAYLIGHT
TZOFFSETFROM:-0500
TZOFFSETTO:-0400
TZNAME:EDT
DTSTART:20230312T070000
END:DAYLIGHT
BEGIN:STANDARD
TZOFFSETFROM:-0400
TZOFFSETTO:-0500
TZNAME:EST
DTSTART:20231105T060000
END:STANDARD
END:VTIMEZONE
BEGIN:VEVENT
DTSTART;VALUE=DATE:20230919
DTEND;VALUE=DATE:20230920
DTSTAMP:20260420T074319
CREATED:20230829T110114Z
LAST-MODIFIED:20230829T110329Z
UID:12445-1695081600-1695167999@gbta.org
SUMMARY:GBTA Philadelphia - 2023 Education Day
DESCRIPTION:Educational Sessions Include \n\nFleet Management 101\nGlobalizing a Regional Policy & Safety\nCorporate Card\nNDC 2.0 Deep Dive Panel\n\nFull Agenda Coming Soon! \nEvent Sponsor \nSingapore Airlines \nSPONSORSHIP OPPORTUNITIES AVAILABLE! \nLocation of Event \nLive! Casino & Hotel Philadelphia\, 900 Packer Ave\nPhiladelphia\, PA 19148 \nParking Information \nFree parking at Live! Hotel & Casino \nPricing and Registration \nLast chance to register is Wednesday\, September 13 at 5pm
URL:https://gbta.org/fr/event/gbta-philadelphia-2023-education-day/
CATEGORIES:US Chapter Event
END:VEVENT
BEGIN:VEVENT
DTSTART;TZID=America/New_York:20230919T070000
DTEND;TZID=America/New_York:20230919T150000
DTSTAMP:20260420T074319
CREATED:20230804T120132Z
LAST-MODIFIED:20230808T145508Z
UID:12084-1695106800-1695135600@gbta.org
SUMMARY:GBTA-Rocky Mountain Chapter  - 2023 Golf\, Paint & Sip and Auction
DESCRIPTION:GBTA-RMC is excited to introduce an intuitive and easy-to-use online & mobile bidding silent auction. \nWe have created a simple auction online where donating AND bidding can take place as soon as today.\nSimply sign up Under settings\, add a credit card.\nOnce your credit card information has been added\, BID or DONATE.\nThe auction will end with a click of a button\, at our lunch on September 19th.\nWhen you have the winning bid\, you press pay. \nIt’s literally that easy. \nLocation of Event \nThe Inverness Denver\, a Hilton Golf & Spa Resort\n200 Inverness Dr W Suite 100\, Englewood\, CO 80112 \nPricing and Registration \nStarts at $80
URL:https://gbta.org/fr/event/gbta-rocky-mountain-chapter-2023-golf-paint-sip-and-auction/
CATEGORIES:US Chapter Event
END:VEVENT
BEGIN:VEVENT
DTSTART;TZID=America/New_York:20230919T110000
DTEND;TZID=America/New_York:20230920T160000
DTSTAMP:20260420T074319
CREATED:20230505T053241Z
LAST-MODIFIED:20230626T125836Z
UID:10527-1695121200-1695225600@gbta.org
SUMMARY:GBTA APAC Conference 2023 – Singapore
DESCRIPTION:  \n \nThe GBTA APAC Conference 2023 – Singapore will bring together the business travel community to network\, learn from industry experts and benefit from peer-to- peer education. Tapping into the global insights of GBTA and curated by regional thought leaders this event will focus on the key issues and opportunities facing the business travel industry today. \nJoin us to connect with peers; expand your network; be inspired by innovative content and gain insights and knowledge to enhance your understanding of industry issues and accelerate your career. \nFor the first time\, this event will be co-located with the Worldwide ERC® APAC Regional Summit Singapore offering all delegates the valuable opportunity to benefit from learning and networking opportunities provided by both organizations. \n \nRegister today for this important gathering of the global business travel industry and be a part of the journey.
URL:https://gbta.org/fr/event/gbta-apac-conference-2023-singapore/
CATEGORIES:APAC,Conference/Convention
ATTACH;FMTTYPE=image/png:https://gbta.org/wp-content/uploads/apacbannerhbta.png
END:VEVENT
END:VCALENDAR