BEGIN:VCALENDAR
VERSION:2.0
PRODID:-//Global Business Travel Association - GBTA - ECPv6.9.0//NONSGML v1.0//EN
CALSCALE:GREGORIAN
METHOD:PUBLISH
X-ORIGINAL-URL:https://gbta.org/fr
X-WR-CALDESC:Évènements pour Global Business Travel Association - GBTA
REFRESH-INTERVAL;VALUE=DURATION:PT1H
X-Robots-Tag:noindex
X-PUBLISHED-TTL:PT1H
BEGIN:VTIMEZONE
TZID:America/New_York
BEGIN:DAYLIGHT
TZOFFSETFROM:-0500
TZOFFSETTO:-0400
TZNAME:EDT
DTSTART:20230312T070000
END:DAYLIGHT
BEGIN:STANDARD
TZOFFSETFROM:-0400
TZOFFSETTO:-0500
TZNAME:EST
DTSTART:20231105T060000
END:STANDARD
END:VTIMEZONE
BEGIN:VEVENT
DTSTART;VALUE=DATE:20230921
DTEND;VALUE=DATE:20230922
DTSTAMP:20260420T060135
CREATED:20230830T080833Z
LAST-MODIFIED:20230830T081226Z
UID:12468-1695254400-1695340799@gbta.org
SUMMARY:Puget Sound Chapter - The Problems and Solutions to Corporate Travel “Leakage”
DESCRIPTION:Ever since technology was introduced into the corporate travel landscape\, the ability for travelers to have a plethora of options in their bookings has led to multiple challenges for both corporate travel suppliers and managers. The primary challenge that arises from these options is that travelers choose them\, which means they are not staying within the confines of the corporate travel program. This booking “leakage” presents multiple gaps in an organization’s travel program\, including gaps in duty of care\, compliance oversight\, savings management\, and more. Now more than ever this has become an area of focus with the changes happening around NDC. How did we get here\, what have we done to solve this challenge\, and what technologies have emerged to help bridge these gaps? Join us as Justin Morris from Traxo discusses the history\, challenges\, and potential solutions. \nEvent Speaker \nJustin Morris | Has been in corporate travel for a little over a decade. He spent four years with Avis Budget Group\, where he led the mid-market team and advanced to be one of the first business development leaders with a 14-state territory. After his time with Avis Budget Group\, he spent four years at CWT\, contributing to their small\, small-to-medium\, and mid-market sectors in the Midwest before joining Direct Travel for a year. Now\, Justin works as the Director of Sales for Traxo\, leads the organization’s TMC partnership initiative\, and hosts the Traxo Office Hours webinar series. Justin is very involved in GBTA. He’s currently a member of five BTA chapters\, is the VP of Education for the Wisconsin BTA chapter\, a member of Ladders\, and sits on the Technology Committee. Outside of corporate travel\, Justin spends most of his time with his wife and children in their foster care ministry\, and when he has downtime\, he enjoys a good game of tennis. \nLocation of Event \nSheraton Grand Seattle\n1400 6th Avenue\nSeattle\, WA 98101\nhttp://www.marriott.com/seasi \nPricing and Registration \n$60.00 Members\n$85.00 after 11:00 pm September 16 \n$75.00 Non-Members\n$100.00 after 11:00 pm September 16 \n$10.00 Bingo – 3 tickets for $10 \n$60.00 All Access GBTA Member Ticket\n$85.00 after 11:00 pm September 16
URL:https://gbta.org/fr/event/puget-sound-chapter-the-problems-and-solutions-to-corporate-travel-leakage/
CATEGORIES:US Chapter Event
END:VEVENT
END:VCALENDAR