BEGIN:VCALENDAR
VERSION:2.0
PRODID:-//Global Business Travel Association - GBTA - ECPv6.9.0//NONSGML v1.0//EN
CALSCALE:GREGORIAN
METHOD:PUBLISH
X-ORIGINAL-URL:https://gbta.org/fr
X-WR-CALDESC:Évènements pour Global Business Travel Association - GBTA
REFRESH-INTERVAL;VALUE=DURATION:PT1H
X-Robots-Tag:noindex
X-PUBLISHED-TTL:PT1H
BEGIN:VTIMEZONE
TZID:America/New_York
BEGIN:DAYLIGHT
TZOFFSETFROM:-0500
TZOFFSETTO:-0400
TZNAME:EDT
DTSTART:20230312T070000
END:DAYLIGHT
BEGIN:STANDARD
TZOFFSETFROM:-0400
TZOFFSETTO:-0500
TZNAME:EST
DTSTART:20231105T060000
END:STANDARD
END:VTIMEZONE
BEGIN:VEVENT
DTSTART;TZID=America/New_York:20231018T130000
DTEND;TZID=America/New_York:20231018T140000
DTSTAMP:20260421T222441
CREATED:20230920T060059Z
LAST-MODIFIED:20230927T113654Z
UID:12811-1697634000-1697637600@gbta.org
SUMMARY:What travel managers and travelers agree (and disagree) on
DESCRIPTION:What do business travelers think about the direction of managed business travel programs? What about the perspectives of the travel managers who set these programs? \nJoin this dynamic session with GBTA and Uber for Business to explore the priorities and challenges of today’s business travelers and travel managers\, including: \n\nThe business traveler experience and its importance compared to other priorities\nSustainable business travel and what it means to travelers and managers alike\nCost savings in managed travel programs\, how it is achieved and what is prioritized\nHow an uncertain economy could impact business travel\n\nSign up to gain valuable knowledge\, innovative ideas\, and actionable strategies to thrive in today’s evolving corporate travel landscape. \nEvent Speakers \nChris Ely\, Research Director | GBTA\nVanessa Snow\, Global Strategic Manager | Uber for Business\n  \n  \n  \n  \n  \n\nMade possible by\n \nPricing and Registration \nComplimentary
URL:https://gbta.org/fr/event/what-travel-managers-and-travelers-agree-and-disagree-on/
CATEGORIES:North America,Online Courses & Webinars
END:VEVENT
END:VCALENDAR