BEGIN:VCALENDAR
VERSION:2.0
PRODID:-//Global Business Travel Association - GBTA - ECPv6.9.0//NONSGML v1.0//EN
CALSCALE:GREGORIAN
METHOD:PUBLISH
X-WR-CALNAME:Global Business Travel Association - GBTA
X-ORIGINAL-URL:https://gbta.org/fr
X-WR-CALDESC:Évènements pour Global Business Travel Association - GBTA
REFRESH-INTERVAL;VALUE=DURATION:PT1H
X-Robots-Tag:noindex
X-PUBLISHED-TTL:PT1H
BEGIN:VTIMEZONE
TZID:Europe/Brussels
BEGIN:DAYLIGHT
TZOFFSETFROM:+0100
TZOFFSETTO:+0200
TZNAME:CEST
DTSTART:20230326T010000
END:DAYLIGHT
BEGIN:STANDARD
TZOFFSETFROM:+0200
TZOFFSETTO:+0100
TZNAME:CET
DTSTART:20231029T010000
END:STANDARD
TZID:America/New_York
BEGIN:DAYLIGHT
TZOFFSETFROM:-0500
TZOFFSETTO:-0400
TZNAME:EDT
DTSTART:20230312T070000
END:DAYLIGHT
BEGIN:STANDARD
TZOFFSETFROM:-0400
TZOFFSETTO:-0500
TZNAME:EST
DTSTART:20231105T060000
END:STANDARD
END:VTIMEZONE
BEGIN:VEVENT
DTSTART;TZID=Europe/Brussels:20231114T080000
DTEND;TZID=Europe/Brussels:20231116T170000
DTSTAMP:20260421T173508
CREATED:20230105T031427Z
LAST-MODIFIED:20230824T153442Z
UID:8557-1699948800-1700154000@gbta.org
SUMMARY:GBTA + VDR Europe Conference 2023 – Hamburg
DESCRIPTION:14 – 16 November 2023 \nGBTA + VDR Europe Conference 2023 – Hamburg is the place to be\, it is Europe’s largest conference for business travel and meetings management professionals. It’s the place where community\, learning and advocacy and more all come together for the European business travel industry. The place to build long-term connections\, benefit from peer-to-peer education\, and advocate for what matters most. To recognise and celebrate those who give back to keep our industry and association. It’s the place where our many voices from around the world join for the one purpose of shaping the future of the industry. \nLearn More >>
URL:https://gbta.org/fr/event/gbta-conference-2023-hamburg-in-partnership-with-vdr/
CATEGORIES:Conference/Convention,Europe,France
END:VEVENT
BEGIN:VEVENT
DTSTART;VALUE=DATE:20231116
DTEND;VALUE=DATE:20231117
DTSTAMP:20260421T173508
CREATED:20231019T155122Z
LAST-MODIFIED:20231101T073629Z
UID:13142-1700092800-1700179199@gbta.org
SUMMARY:GBTA Oregon Chapter - ESG Panel Discussion: Accessibility in Travel (GTP Credit Approved)
DESCRIPTION:Whether your role is that of travel buyer or supplier\, awareness of and ensuring accessibility for all business travelers must be a top priority. Accessible travel is about ensuring equal access for people regardless of physical limitations\, disabilities (cognitive or otherwise)\, race\, gender\, age\, or any attribute that might impact a traveler’s ability to fully participate in the travel ecosystem. \nOur panel of experts will discuss the importance of accessible travel and highlight some of the things your company can do to create all-inclusive travel experiences. \n \nPanelists \nJill Megli | Global Director at Hyatt Hotels Corporation\, Steve Nelson Accessibility/Diversity Program Manager at Alaska Airlines\, John Sage CEO Sage Inclusion \nModerator \nZoe Hamilton | Director of Sales and Marketing – The Hotel Zags and Director of ESG for GBTA Oregon \nLocation of Event \nEmbassy Suites by Hilton Portland Downtown\n319 SW Pine St.\nPortland\, OR 97204
URL:https://gbta.org/fr/event/gbta-oregon-chapter-esg-panel-discussion-accessibility-in-travel/
CATEGORIES:US Chapter Event
END:VEVENT
BEGIN:VEVENT
DTSTART;TZID=America/New_York:20231116T090000
DTEND;TZID=America/New_York:20231116T180000
DTSTAMP:20260421T173508
CREATED:20231020T145114Z
LAST-MODIFIED:20231020T145234Z
UID:13163-1700125200-1700157600@gbta.org
SUMMARY:GBTA NYC Chapter - Education Day
DESCRIPTION:GBTA NYC invites you to attend our annual Educational Day. \nSessions will include an Online Booking Tool Showdown\, Buyers Panel\, Real ID and more. \nLocation of Event \nRenaissance New York Midtown Hotel 218 W 35TH Street New York\, NY 10001. \nWe hope to see you there!
URL:https://gbta.org/fr/event/gbta-nyc-chapter-education-day/
CATEGORIES:US Chapter Event
END:VEVENT
END:VCALENDAR