BEGIN:VCALENDAR
VERSION:2.0
PRODID:-//Global Business Travel Association - GBTA - ECPv6.9.0//NONSGML v1.0//EN
CALSCALE:GREGORIAN
METHOD:PUBLISH
X-WR-CALNAME:Global Business Travel Association - GBTA
X-ORIGINAL-URL:https://gbta.org/fr
X-WR-CALDESC:Évènements pour Global Business Travel Association - GBTA
REFRESH-INTERVAL;VALUE=DURATION:PT1H
X-Robots-Tag:noindex
X-PUBLISHED-TTL:PT1H
BEGIN:VTIMEZONE
TZID:America/New_York
BEGIN:DAYLIGHT
TZOFFSETFROM:-0500
TZOFFSETTO:-0400
TZNAME:EDT
DTSTART:20240310T070000
END:DAYLIGHT
BEGIN:STANDARD
TZOFFSETFROM:-0400
TZOFFSETTO:-0500
TZNAME:EST
DTSTART:20241103T060000
END:STANDARD
END:VTIMEZONE
BEGIN:VEVENT
DTSTART;VALUE=DATE:20240116
DTEND;VALUE=DATE:20240118
DTSTAMP:20260421T214333
CREATED:20231120T165052Z
LAST-MODIFIED:20240106T021755Z
UID:13599-1705363200-1705535999@gbta.org
SUMMARY:GBTA | Wisconsin Annual Event - GTP Credit Approved
DESCRIPTION:18th Annual Education Day Conference\nSponsored by Milwaukee Mitchell International Airport\nJanuary 16-17\, 2024\nThe American Club\, Kohler WI \nDay 1: Tuesday\, January 16th \n1:00p – 2:00p REGISTRATION\nLocation: Great Lakes Foyer \n2:00p – 2:10p CONFERENCE KICK OFF & WELCOME\nLocation: Great Lakes Erie/Ontario/Michigan Ballroom \n2:10p – 3:10p SESSION 1- “Managing Risk in the Era of Polycrisis”\, by Stone Conroy\, United-Manager – Geopolitical Analysis & Intelligence. \n3:10p – 3:25p BREAK\nLocation: Great Lakes Foyer outside of general session \n3:25p – 4:00p SESSION 2 – Mental Health Kit Project & Complimentary Head Shots\nLocation: Superior/Huron \n5:00p – 7:00p SILENT AUCTION (cash bar) with MC Justin Morris\nLocation: Kohler Design Center \n7:00p – Last Call DINNER & NETWORKING\n(cash bar and on-own dinner)\nLocation: Horse & Plow Restaurant at The American Club \nDay 2: Wednesday\, January 17th \n7:00a – 8:15a BREAKFAST & MARKETPLACE\nBreakfast at 7am – 8am\, Marketplace 7:45-8:15am\nLocation: Great Lakes Foyer & Erie/Ontario/Michigan Room. \n8:15a – 8:20a DAY TWO WELCOME\nLocation: Great Lakes Foyer & Erie/Ontario/Michigan Room \n8:20a – 9:20a SESSION 1 – “Current Trends and Forecast in the Business Travel Index”\, by Cristina Scott\, Senior Vice President\, Americas at GBTA\nIntroduction by Angela Swoveland\, Manager\, Volunteer Relations and Strategy-GBTA \n9:20a-10:20a SESSION 2 – “What’s New in Corporate Travel Innovation”\, by Cara Whitehill\, Founder\, Unlock Advisors \n10:20a – 10:55a BREAK \n10:55a – 12:10p ACTIVITY – Junior Achievement of Wisconsin Student Career Panel & Speed Networking\nPanel Discussion 10:55-11:40a\nSpeed Networking 11:40-12:10p \n12:15p – 1:00p LUNCH & GBTA WI BUSINESS MEETING\nLocation: Superior/Huron Room \n1:05p – 1:30p MARKETPLACE\nLocation: Great Lakes Ballroom Michigan/Erie/Ontario \n1:30p – 2:30p SESSION 3- “HT 101 for the Hospitality Industry”\, Neal Lofy\, President of Fight To End Exploitation \n2:30p – 3:30p SESSION 4- “Harnessing Your Power to Create Change”\, Dr. Derreck Kayongo\, A Visionary Corporate Social Entrepreneur\, Company \n3:30p – 3:45p CLOSING \n3:45p – 4:00p MARKETPLACE\nLocation: Great Lakes Ballroom Michigan/Erie/Ontario
URL:https://gbta.org/fr/event/gbta-wisconsin-annual-event/
CATEGORIES:US Chapter Event
END:VEVENT
END:VCALENDAR