BEGIN:VCALENDAR
VERSION:2.0
PRODID:-//Global Business Travel Association - GBTA - ECPv6.9.0//NONSGML v1.0//EN
CALSCALE:GREGORIAN
METHOD:PUBLISH
X-WR-CALNAME:Global Business Travel Association - GBTA
X-ORIGINAL-URL:https://gbta.org/fr
X-WR-CALDESC:Évènements pour Global Business Travel Association - GBTA
REFRESH-INTERVAL;VALUE=DURATION:PT1H
X-Robots-Tag:noindex
X-PUBLISHED-TTL:PT1H
BEGIN:VTIMEZONE
TZID:America/New_York
BEGIN:DAYLIGHT
TZOFFSETFROM:-0500
TZOFFSETTO:-0400
TZNAME:EDT
DTSTART:20240310T070000
END:DAYLIGHT
BEGIN:STANDARD
TZOFFSETFROM:-0400
TZOFFSETTO:-0500
TZNAME:EST
DTSTART:20241103T060000
END:STANDARD
TZID:America/North_Dakota/Center
BEGIN:DAYLIGHT
TZOFFSETFROM:-0600
TZOFFSETTO:-0500
TZNAME:CDT
DTSTART:20240310T080000
END:DAYLIGHT
BEGIN:STANDARD
TZOFFSETFROM:-0500
TZOFFSETTO:-0600
TZNAME:CST
DTSTART:20241103T070000
END:STANDARD
END:VTIMEZONE
BEGIN:VEVENT
DTSTART;VALUE=DATE:20240208
DTEND;VALUE=DATE:20240209
DTSTAMP:20260422T040327
CREATED:20231102T124117Z
LAST-MODIFIED:20231102T164620Z
UID:13354-1707350400-1707436799@gbta.org
SUMMARY:GBTA Supplier Summit 2024
DESCRIPTION:GBTA’s Supplier Summit in Atlanta is your go-to event to kick-start 2024. Don’t miss this opportunity to unite with industry colleagues and learn about what GBTA has in store for 2024\, how you can maximize your GBTA experience\, and plan and prepare for GBTA Convention 2024. This is an excellent opportunity to explore and create customized opportunities to enhance visibility of your company while learning best practices and tips to position you for Convention success. \nLocation of Event \nGeorgia World Congress Center\n285 Andrew Young International Blvd NW\, Atlanta\, GA 30313 \nLearn More
URL:https://gbta.org/fr/event/gbta-supplier-summit-2024/
CATEGORIES:North America
END:VEVENT
BEGIN:VEVENT
DTSTART;TZID=America/North_Dakota/Center:20240208T110000
DTEND;TZID=America/North_Dakota/Center:20240208T130000
DTSTAMP:20260422T040327
CREATED:20240208T103100Z
LAST-MODIFIED:20240208T103100Z
UID:14381-1707390000-1707397200@gbta.org
SUMMARY:Utah Business Travel Association Monthly Luncheon and Education Event
DESCRIPTION:Utah Business Travel Association\nMarriott Salt Lake City\, 200 S. State Street\, SLC UT\n11am-1pm \nSuzanne Neufang – GBTA CEO\nSuzanne Neufang was named CEO of GBTA in February 2021\, where she leads the association’s mission\, strategy\, and programs to benefit stakeholders across the global\nShe is a transformation-focused executive who has led product\, service and organizational innovation through times of great change – “connecting dots” across geographies\, functions\, people\, and results. She’s held leadership roles within the travel industry for the past 20 years\, including at HRS\, GetThere\, Travelocity and Sabre. Before travel\, she was a leader in tech and telecom industries at Intuit\, Verizon\, and GTE. She’s been an active volunteer in the travel industry\, including serving as board president of the former Association of Corporate Travel Executives (ACTE).\nSuzanne holds a masters degree from the University of Hawaii\, and a bachelors degree from Minot State University in North Dakota. She and her husband\, Ralf\, live in New York City\, and have two grown sons. \nFun fact: Suzanne has visited over 40 countries on her professional and personal travels. \nAngela Swoveland – Relations and Strategy manager\nAngela Swoveland passion for GBTA has cultivated through her Chapter experience serving on the Membership Committee\, as Treasurer and as President for the Baltimore Washington Chapter. During her Chairman term she led the taskforce to combine the Northern Virginia and Baltimore Washington Chapters into what is now the Greater DC Metro Chapter. She has also served as Secretary/Treasurer of GBTA’s Chapter President’s Council Leadership. She now assists aspiring GBTA Leaders in her role at GBTA as Manager\, Volunteer Relations and Strategy.\nPrior to joining GBTA staff\, Angela was a passionate hotelier with over 20 years’ experience in hospitality sales primarily focused on the Business Travel segment.\nAngela holds a Bachelor’s degree in Business Administration and an Associate’s degree in Travel and Tourism Management. She recently received her Global Travel Professional (GTP) Certification.
URL:https://gbta.org/fr/event/utah-business-travel-association-monthly-luncheon-and-education-event/
CATEGORIES:North America,US Chapter Event
END:VEVENT
BEGIN:VEVENT
DTSTART;TZID=America/New_York:20240208T120000
DTEND;TZID=America/New_York:20240208T163000
DTSTAMP:20260422T040327
CREATED:20240130T152923Z
LAST-MODIFIED:20240206T154752Z
UID:14260-1707393600-1707409800@gbta.org
SUMMARY:The Future of Business Travel - GTP Credit Approved
DESCRIPTION:GBTA Silicon Valley\nStep into the future of business travel at the February meeting of the Silicon Valley chapter of GBTA! As we kick off 2024\, industry luminary Kevin Iwamoto\, GLP\, GTP\, renowned as a GBTA Icon\, takes the stage to guide travel buyers and suppliers through the crucial landscapes shaping the trajectory of our industry. From navigating Duty of Care and embracing Sustainability to delving into the realm of Artificial Intelligence\, confronting shifts in distribution with NDC\, and addressing the pivotal transitions within the workforce generations – this session promises a comprehensive exploration of the key areas that demand your attention in the ever-evolving world of corporate travel and meetings programs. Don’t miss this opportunity to stay ahead of the curve with insights from one of the most respected voices in the industry! \n \nKeynote Speaker – Kevin Iwamoto \nThe keynote speech is followed by Shark Tank style pitch by innovative travel technology companies. Vote for the most innovative tool!\nFeaturing Brex\, Navan and hubli
URL:https://gbta.org/fr/event/the-future-of-business-travel/
CATEGORIES:North America,US Chapter Event
END:VEVENT
END:VCALENDAR