BEGIN:VCALENDAR
VERSION:2.0
PRODID:-//Global Business Travel Association - GBTA - ECPv6.9.0//NONSGML v1.0//EN
CALSCALE:GREGORIAN
METHOD:PUBLISH
X-WR-CALNAME:Global Business Travel Association - GBTA
X-ORIGINAL-URL:https://gbta.org/fr
X-WR-CALDESC:Évènements pour Global Business Travel Association - GBTA
REFRESH-INTERVAL;VALUE=DURATION:PT1H
X-Robots-Tag:noindex
X-PUBLISHED-TTL:PT1H
BEGIN:VTIMEZONE
TZID:America/New_York
BEGIN:DAYLIGHT
TZOFFSETFROM:-0500
TZOFFSETTO:-0400
TZNAME:EDT
DTSTART:20240310T070000
END:DAYLIGHT
BEGIN:STANDARD
TZOFFSETFROM:-0400
TZOFFSETTO:-0500
TZNAME:EST
DTSTART:20241103T060000
END:STANDARD
END:VTIMEZONE
BEGIN:VEVENT
DTSTART;TZID=America/New_York:20240306T113000
DTEND;TZID=America/New_York:20240306T133000
DTSTAMP:20260422T195031
CREATED:20240221T105701Z
LAST-MODIFIED:20240221T105701Z
UID:14711-1709724600-1709731800@gbta.org
SUMMARY:San Diego Airport Update
DESCRIPTION:GBTA San Diego\nJoin us in March for exciting San Diego Airport Updates by Hampton Brown! We’ll hear about the airport development project\, current airlines\, route updates and more.\nSpeaker – Hampton Brown VP Revenue\, Marketing and Innovation San Diego International Airport\nLocation – Hilton Harbor Island/San Diego Airport\nRegistration: $60 members/$75 guests
URL:https://gbta.org/fr/event/san-diego-airport-update/
CATEGORIES:North America,US Chapter Event
END:VEVENT
END:VCALENDAR