BEGIN:VCALENDAR
VERSION:2.0
PRODID:-//Global Business Travel Association - GBTA - ECPv6.9.0//NONSGML v1.0//EN
CALSCALE:GREGORIAN
METHOD:PUBLISH
X-WR-CALNAME:Global Business Travel Association - GBTA
X-ORIGINAL-URL:https://gbta.org/fr
X-WR-CALDESC:Évènements pour Global Business Travel Association - GBTA
REFRESH-INTERVAL;VALUE=DURATION:PT1H
X-Robots-Tag:noindex
X-PUBLISHED-TTL:PT1H
BEGIN:VTIMEZONE
TZID:Europe/Monaco
BEGIN:DAYLIGHT
TZOFFSETFROM:+0100
TZOFFSETTO:+0200
TZNAME:CEST
DTSTART:20240331T010000
END:DAYLIGHT
BEGIN:STANDARD
TZOFFSETFROM:+0200
TZOFFSETTO:+0100
TZNAME:CET
DTSTART:20241027T010000
END:STANDARD
END:VTIMEZONE
BEGIN:VEVENT
DTSTART;TZID=Europe/Monaco:20240326T093000
DTEND;TZID=Europe/Monaco:20240326T140000
DTSTAMP:20260420T074322
CREATED:20240223T123129Z
LAST-MODIFIED:20240223T123629Z
UID:14772-1711445400-1711461600@gbta.org
SUMMARY:Roadshow GBTA - Roma: "Impatti geopolitici su Business Travel e Mice"
DESCRIPTION:Description:\nIl Roadshow si svolge come una Masterclass con interazione tra relatori e spettatori\, i quali potranno porre tutte le domande necessarie per soddisfare le proprie esigenze informative. \nIl tema dell’evento di Roma verterà su “Impatti geopolitici su Business Travel e Mice” ed esplorerà con dati di scenario e pratiche concrete come il mercato sta reagendo alle sfide attuali e quali sono le contromisure per Travel Manager e supplier da mettere in atto. \nIl Roadshow si terrà anche quest’anno presso il Centro Congressi del Western Plus Hotel Universo\, a pochi passi dalla Stazione Ferroviaria di Roma Termini.\nL’evento\, con il networking di benvenuto che inizia alle 9.30 e i lavori in sala alle 10.00\, pe prevede un light lunch con termine alle 14.00\, sarà gratuito per i professionisti del Travel\, grazie al contributo dei nostri Sponsor. \nIl numero di posti è limitato. \nSpeakers: \n\nAndrea Giuricin – CEO TRA Consulting\, Senior advisor for Investment funds\, Senior Consult. World Bank\, Transport economist at CESISP-UNIMIB \n\nMarco Quagliarella – General Manager of International Operations e General Manager of AIM Education @ AIM Group International \nStart Date and Time: March 26\, 2024 @ 9.30 AM CET\nEnd Date and Time: March 26\, 2024 @ 2.00 PM CET \nLocation:\nWestern Plus Hotel Universo\nVia Principe Amedeo\, 5/B\nRoma \nSponsor: \n \nCDS Groupe- Main Sponsor \n \n🚩BWH Hotels Italia & Malta- Technical Sponsor \nPricing:\nFree of Charge
URL:https://gbta.org/fr/event/roadshow-gbta-roma-impatti-geopolitici-su-business-travel-e-mice/
CATEGORIES:Europe,Italy,Roadshow
END:VEVENT
END:VCALENDAR