BEGIN:VCALENDAR
VERSION:2.0
PRODID:-//Global Business Travel Association - GBTA - ECPv6.9.0//NONSGML v1.0//EN
CALSCALE:GREGORIAN
METHOD:PUBLISH
X-ORIGINAL-URL:https://gbta.org/fr
X-WR-CALDESC:Évènements pour Global Business Travel Association - GBTA
REFRESH-INTERVAL;VALUE=DURATION:PT1H
X-Robots-Tag:noindex
X-PUBLISHED-TTL:PT1H
BEGIN:VTIMEZONE
TZID:America/New_York
BEGIN:DAYLIGHT
TZOFFSETFROM:-0500
TZOFFSETTO:-0400
TZNAME:EDT
DTSTART:20240310T070000
END:DAYLIGHT
BEGIN:STANDARD
TZOFFSETFROM:-0400
TZOFFSETTO:-0500
TZNAME:EST
DTSTART:20241103T060000
END:STANDARD
END:VTIMEZONE
BEGIN:VEVENT
DTSTART;VALUE=DATE:20240403
DTEND;VALUE=DATE:20240405
DTSTAMP:20260420T024537
CREATED:20230906T145024Z
LAST-MODIFIED:20231102T173431Z
UID:12632-1712102400-1712275199@gbta.org
SUMMARY:GBTA Mexico Conference 2024 – Mexico City
DESCRIPTION:For over 15 years\, the GBTA Conference in Mexico City has been the go-to event for making new face-to-face connections\, growing your business network\, and learning from top experts who inspire a diverse business travel community. It’s the most important event for the corporate travel and meetings industry in the region. \nYou’ll find trending topics\, notable speakers\, and the tools you need—like forecasts\, data\, best practices\, and technologies—to smoothly steer your business travelers\, organizations\, and teams into the future. \nAll of this awaits you at this special gathering of leaders from the Latin American business travel community. We’re excited to have you join us at the next GBTA 2024 Conference. \nRegistration is now open. \nDates: April 3\,4\, 2024\nVenue:  Hilton Mexico City Reforma \nRegister Here>> \nLearn More >> \nSponsor opportunities available >>
URL:https://gbta.org/fr/event/gbta-mexico-conference-2024-mexico-city/
CATEGORIES:Conference/Convention,LATAM
ATTACH;FMTTYPE=image/png:https://gbta.org/wp-content/uploads/mexico-banner.png
END:VEVENT
END:VCALENDAR