BEGIN:VCALENDAR
VERSION:2.0
PRODID:-//Global Business Travel Association - GBTA - ECPv6.9.0//NONSGML v1.0//EN
CALSCALE:GREGORIAN
METHOD:PUBLISH
X-WR-CALNAME:Global Business Travel Association - GBTA
X-ORIGINAL-URL:https://gbta.org/fr
X-WR-CALDESC:Évènements pour Global Business Travel Association - GBTA
REFRESH-INTERVAL;VALUE=DURATION:PT1H
X-Robots-Tag:noindex
X-PUBLISHED-TTL:PT1H
BEGIN:VTIMEZONE
TZID:America/New_York
BEGIN:DAYLIGHT
TZOFFSETFROM:-0500
TZOFFSETTO:-0400
TZNAME:EDT
DTSTART:20240310T070000
END:DAYLIGHT
BEGIN:STANDARD
TZOFFSETFROM:-0400
TZOFFSETTO:-0500
TZNAME:EST
DTSTART:20241103T060000
END:STANDARD
END:VTIMEZONE
BEGIN:VEVENT
DTSTART;VALUE=DATE:20240422
DTEND;VALUE=DATE:20240425
DTSTAMP:20260420T023216
CREATED:20231027T134633Z
LAST-MODIFIED:20231214T141320Z
UID:13279-1713744000-1714003199@gbta.org
SUMMARY:GBTA Canada Conference 2024 – Toronto
DESCRIPTION:Join us at the GBTA Canada Conference 2024 | Toronto\, Canada’s largest business travel conference\, to connect with industry leaders\, discover new solutions\, and shape the future of business travel. \nFrom serving the ongoing needs of business travel professionals to looking ahead to what’s needed most now by travel buyers\, suppliers\, business travelers and others\, GBTA Conference returns to Toronto as the Canadian business travel event of the year.\n \nLearn More & Register >
URL:https://gbta.org/fr/event/gbta-canada-conference-2024-toronto/
CATEGORIES:Canada
ATTACH;FMTTYPE=image/png:https://gbta.org/wp-content/uploads/canada-expo-banner.png
END:VEVENT
END:VCALENDAR