BEGIN:VCALENDAR
VERSION:2.0
PRODID:-//Global Business Travel Association - GBTA - ECPv6.9.0//NONSGML v1.0//EN
CALSCALE:GREGORIAN
METHOD:PUBLISH
X-WR-CALNAME:Global Business Travel Association - GBTA
X-ORIGINAL-URL:https://gbta.org/fr
X-WR-CALDESC:Évènements pour Global Business Travel Association - GBTA
REFRESH-INTERVAL;VALUE=DURATION:PT1H
X-Robots-Tag:noindex
X-PUBLISHED-TTL:PT1H
BEGIN:VTIMEZONE
TZID:America/New_York
BEGIN:DAYLIGHT
TZOFFSETFROM:-0500
TZOFFSETTO:-0400
TZNAME:EDT
DTSTART:20240310T070000
END:DAYLIGHT
BEGIN:STANDARD
TZOFFSETFROM:-0400
TZOFFSETTO:-0500
TZNAME:EST
DTSTART:20241103T060000
END:STANDARD
END:VTIMEZONE
BEGIN:VEVENT
DTSTART;TZID=America/New_York:20240516T110000
DTEND;TZID=America/New_York:20240516T133000
DTSTAMP:20260421T204719
CREATED:20240508T165919Z
LAST-MODIFIED:20240508T165919Z
UID:15912-1715857200-1715866200@gbta.org
SUMMARY:The Challenges of a Modern Road Warrior\, Part 1
DESCRIPTION:Complimentary Zoom meeting on May 16 from 11am – 1:30pm. “The Challenges of a Modern Road Warrior\, Part 1” featuring Kyle Murphy\, Global Travel Manager Koch Global Services and a unique view from Executive Administrative Partner\, Mandy Robertson. Supplier / Buyer Breakout Sessions to follow presentation. Part 2 will be August 15.
URL:https://gbta.org/fr/event/the-challenges-of-a-modern-road-warrior-part-1/
CATEGORIES:North America,US Chapter Event
END:VEVENT
END:VCALENDAR