BEGIN:VCALENDAR
VERSION:2.0
PRODID:-//Global Business Travel Association - GBTA - ECPv6.9.0//NONSGML v1.0//EN
CALSCALE:GREGORIAN
METHOD:PUBLISH
X-ORIGINAL-URL:https://gbta.org/fr
X-WR-CALDESC:Évènements pour Global Business Travel Association - GBTA
REFRESH-INTERVAL;VALUE=DURATION:PT1H
X-Robots-Tag:noindex
X-PUBLISHED-TTL:PT1H
BEGIN:VTIMEZONE
TZID:America/New_York
BEGIN:DAYLIGHT
TZOFFSETFROM:-0500
TZOFFSETTO:-0400
TZNAME:EDT
DTSTART:20240310T070000
END:DAYLIGHT
BEGIN:STANDARD
TZOFFSETFROM:-0400
TZOFFSETTO:-0500
TZNAME:EST
DTSTART:20241103T060000
END:STANDARD
END:VTIMEZONE
BEGIN:VEVENT
DTSTART;VALUE=DATE:20240722
DTEND;VALUE=DATE:20240725
DTSTAMP:20260425T071343
CREATED:20231120T165316Z
LAST-MODIFIED:20240425T035132Z
UID:13602-1721606400-1721865599@gbta.org
SUMMARY:GBTA Convention 2024
DESCRIPTION:Join us for the 55th annual GBTA Convention\, the premier global event for the business travel industry where diverse voices come together for a common purpose. \n– CONNECT in person with thousands of industry peers\, suppliers\, and partners\, as they benefit from unparalleled opportunities for professional and business growth\n– LEARN from and be inspired by insightful speakers and leading experts on timely topics that matter most\n– GROW your career and skills with unmatched sessions for learning\, training and professional development tailored for all levels and interests\n– DISCOVER tools\, research and resources – from the latest industry outlook and trends\, to best practices and technologies – that empower you to advance your organization\, travelers\, and teams \n \nLearn More>  \nInterested in exhibiting? Learn more about expo opportunities.
URL:https://gbta.org/fr/event/gbta-convention-2024/
CATEGORIES:Conference/Convention
ATTACH;FMTTYPE=image/png:https://gbta.org/wp-content/uploads/goergiacenter.png
END:VEVENT
END:VCALENDAR