BEGIN:VCALENDAR
VERSION:2.0
PRODID:-//Global Business Travel Association - GBTA - ECPv6.9.0//NONSGML v1.0//EN
CALSCALE:GREGORIAN
METHOD:PUBLISH
X-ORIGINAL-URL:https://gbta.org/fr
X-WR-CALDESC:Évènements pour Global Business Travel Association - GBTA
REFRESH-INTERVAL;VALUE=DURATION:PT1H
X-Robots-Tag:noindex
X-PUBLISHED-TTL:PT1H
BEGIN:VTIMEZONE
TZID:America/New_York
BEGIN:DAYLIGHT
TZOFFSETFROM:-0500
TZOFFSETTO:-0400
TZNAME:EDT
DTSTART:20250309T070000
END:DAYLIGHT
BEGIN:STANDARD
TZOFFSETFROM:-0400
TZOFFSETTO:-0500
TZNAME:EST
DTSTART:20251102T060000
END:STANDARD
END:VTIMEZONE
BEGIN:VEVENT
DTSTART;TZID=America/New_York:20250116T100000
DTEND;TZID=America/New_York:20250116T133000
DTSTAMP:20260421T200529
CREATED:20250107T101621Z
LAST-MODIFIED:20250113T152143Z
UID:19773-1737021600-1737034200@gbta.org
SUMMARY:The Modern Road Warrior:  Navigating Travel\, Policies\, and Personal Balance - GTP Credit Approved
DESCRIPTION:Location:\nWarwick Melrose – Dallas\n3015 Oak Lawn Ave\nDallas\, TX 75219 \nDate:\nJanuary 16\, 2025\, from 10:30am CT – 1:00pm CT\n• Networking – 30 min\n• Speaker/Panel Portion – 1 hr\n• Chapter Updates and Lunch 1 hr \nModerator:\nMarilyn Townsend – Sabre\, Sr. Director\, Global Travel\, Real Estate\, Facilities\, Security & Safety \nPanelists:\nBrett Dowling – GetThere\, VP/GM\nBruce Hines – Lexus\, Lexus Motorsports Manager\nKevin Henning – Simpler (an IBM Company)\, VP \nThe Modern Road Warrior: Navigating Travel\, Policies\, and Personal Balance \n• Communication Preferences / Organizational Tools / Work Life Balance\n• Loyalty Programs & Airline Preferences\n• Duty of Care & Support During Travel Disruptions\n• Sustainability in Corporate Travel\n• Your Feedback as a Road Warrior
URL:https://gbta.org/fr/event/the-modern-road-warrior-navigating-travel-policies-and-personal-balance/
CATEGORIES:North America,US Chapter Event
END:VEVENT
BEGIN:VEVENT
DTSTART;TZID=America/New_York:20250116T110000
DTEND;TZID=America/New_York:20250116T133000
DTSTAMP:20260421T200529
CREATED:20250107T102647Z
LAST-MODIFIED:20250107T102647Z
UID:19799-1737025200-1737034200@gbta.org
SUMMARY:GBTA | Georgia In Person Luncheon Meeting
DESCRIPTION:GBTA | Georgia January 16 In Person Luncheon Meeting.\nYou won’t want to miss our first meeting of the year! We’re thrilled to announce our Keynote Speaker: Mr. Shane Downey\, Vice President of Government and Community Relations for GBTA. Shane is at the forefront of GBTA’s advocacy efforts\, ensuring our collective voice is heard on crucial public policy issues affecting the business travel industry both globally and locally. \nWhy Attend?\nDiscover how the new administration is supporting smoother\, more efficient travel. \nLearn about the latest developments in travel infrastructure that will benefit your business. \nGet insights into sustainable practices that can help your company and the planet. \nUnderstand the changes in traveler taxes and fees and how they impact you. \nAll at the stunning Porsche Headquarters! \nMembers / All Access Members: $50\nNon Members:: $70\nDue Porsche Headquarters NA Security\, no late registrations or walk-ins allowed. Registration cut-off is January 9\, 2025. \nProgram Sponsor: Jekyll Island Authority
URL:https://gbta.org/fr/event/gbta-georgia-in-person-luncheon-meeting/
CATEGORIES:North America,US Chapter Event
END:VEVENT
END:VCALENDAR