BEGIN:VCALENDAR
VERSION:2.0
PRODID:-//Global Business Travel Association - GBTA - ECPv6.9.0//NONSGML v1.0//EN
CALSCALE:GREGORIAN
METHOD:PUBLISH
X-ORIGINAL-URL:https://gbta.org/fr
X-WR-CALDESC:Évènements pour Global Business Travel Association - GBTA
REFRESH-INTERVAL;VALUE=DURATION:PT1H
X-Robots-Tag:noindex
X-PUBLISHED-TTL:PT1H
BEGIN:VTIMEZONE
TZID:America/New_York
BEGIN:DAYLIGHT
TZOFFSETFROM:-0500
TZOFFSETTO:-0400
TZNAME:EDT
DTSTART:20250309T070000
END:DAYLIGHT
BEGIN:STANDARD
TZOFFSETFROM:-0400
TZOFFSETTO:-0500
TZNAME:EST
DTSTART:20251102T060000
END:STANDARD
END:VTIMEZONE
BEGIN:VEVENT
DTSTART;TZID=America/New_York:20250206T140000
DTEND;TZID=America/New_York:20250206T190000
DTSTAMP:20260421T140338
CREATED:20241202T183926Z
LAST-MODIFIED:20250121T181034Z
UID:19244-1738850400-1738868400@gbta.org
SUMMARY:Carrefour des Experts Travel & MICE par GBTA
DESCRIPTION:Description:\nLe programme de ce Carrefour des Experts GBTA alternera :\n“Quick Visions” Travel & MICE\nQuestions et réactions des Acheteurs/Travels Managers\nSpeed-meetings Acheteurs – Fournisseurs \nStart Date and Time:\n6 février 2025 14h00 CET\n\nEnd Date and Time:\n6 février 2025 19h00 CET \nLocation: Hilton Paris La Défense Westfield CNIT\, 2 Pl. de la Défense\, 92800 Puteaux
URL:https://gbta.org/fr/event/carrefour-des-experts-travel-mice-par-gbta-4/
CATEGORIES:Europe,France
END:VEVENT
BEGIN:VEVENT
DTSTART;TZID=America/New_York:20250206T173000
DTEND;TZID=America/New_York:20250206T193000
DTSTAMP:20260421T140338
CREATED:20250226T164905Z
LAST-MODIFIED:20250226T164905Z
UID:21398-1738863000-1738870200@gbta.org
SUMMARY:International Women's Month Event
DESCRIPTION:Join us for a celebration of women in the travel industry and conversation about driving growth and inclusivity.\nPanel to Include:\nChloe Carver from: Acquis Consulting Group-Head of Corporate Travel Consulting\nBrandi (Brister) McBride from: Connoisseur Travel\,Ltd. Senior Director\, Corporate Travel & Meetings\nDate: 3/06/2025\nTime: 5:30 PM – 7:30 PM\nLocation: The New York Edition\n105 W 28th St\nNew York\, NY 10001
URL:https://gbta.org/fr/event/international-womens-month-event/
CATEGORIES:North America,US Chapter Event
END:VEVENT
END:VCALENDAR