BEGIN:VCALENDAR
VERSION:2.0
PRODID:-//Global Business Travel Association - GBTA - ECPv6.9.0//NONSGML v1.0//EN
CALSCALE:GREGORIAN
METHOD:PUBLISH
X-WR-CALNAME:Global Business Travel Association - GBTA
X-ORIGINAL-URL:https://gbta.org/fr
X-WR-CALDESC:Évènements pour Global Business Travel Association - GBTA
REFRESH-INTERVAL;VALUE=DURATION:PT1H
X-Robots-Tag:noindex
X-PUBLISHED-TTL:PT1H
BEGIN:VTIMEZONE
TZID:America/New_York
BEGIN:DAYLIGHT
TZOFFSETFROM:-0500
TZOFFSETTO:-0400
TZNAME:EDT
DTSTART:20250309T070000
END:DAYLIGHT
BEGIN:STANDARD
TZOFFSETFROM:-0400
TZOFFSETTO:-0500
TZNAME:EST
DTSTART:20251102T060000
END:STANDARD
END:VTIMEZONE
BEGIN:VEVENT
DTSTART;TZID=America/New_York:20250213T110000
DTEND;TZID=America/New_York:20250213T120000
DTSTAMP:20260421T155827
CREATED:20250114T120031Z
LAST-MODIFIED:20250128T164855Z
UID:20068-1739444400-1739448000@gbta.org
SUMMARY:Utah Business Travel Association Monthly Meeting - GTP Credit Approved
DESCRIPTION:$35.00 Non-member/guests\nAsher Adams Hotel\, 2 S 400 W\, Salt Lake City\, UT 84101\nJoin us for an insightful conversation with Justin Anthony\, State Director for Senator Mike Lee of Utah. In this session\, Justin will share his perspectives on the key issues currently shaping the state\, as well as the evolving landscape for the business travel community. With the changing administration and its potential impact on policies\, this is a timely opportunity to gain valuable insights from a leading figure in Utah’s political sphere.
URL:https://gbta.org/fr/event/utah-business-travel-association-monthly-meeting-2/
CATEGORIES:North America,US Chapter Event
END:VEVENT
BEGIN:VEVENT
DTSTART;TZID=America/New_York:20250213T120000
DTEND;TZID=America/New_York:20250213T133000
DTSTAMP:20260421T155827
CREATED:20250129T042915Z
LAST-MODIFIED:20250204T165800Z
UID:20617-1739448000-1739453400@gbta.org
SUMMARY:Spotlight on the Bay: Premier Events Shaping the 2025-2026 Economy - GTP Credit Approved
DESCRIPTION:Join us for an exciting and insightful discussion on February 13\, 2025\, at the Hyatt Centric Mountain View. We will discuss the major events driving the Bay Area’s economic growth in 2025 and 2026. This dynamic panel will feature leading experts in tourism\, marketing\, and sports events\, sharing their perspectives on how these initiatives are shaping the future of our region.
URL:https://gbta.org/fr/event/spotlight-on-the-bay-premier-events-shaping-the-2025-2026-economy/
CATEGORIES:North America,US Chapter Event
END:VEVENT
END:VCALENDAR