BEGIN:VCALENDAR
VERSION:2.0
PRODID:-//Global Business Travel Association - GBTA - ECPv6.9.0//NONSGML v1.0//EN
CALSCALE:GREGORIAN
METHOD:PUBLISH
X-ORIGINAL-URL:https://gbta.org/fr
X-WR-CALDESC:Évènements pour Global Business Travel Association - GBTA
REFRESH-INTERVAL;VALUE=DURATION:PT1H
X-Robots-Tag:noindex
X-PUBLISHED-TTL:PT1H
BEGIN:VTIMEZONE
TZID:America/New_York
BEGIN:DAYLIGHT
TZOFFSETFROM:-0500
TZOFFSETTO:-0400
TZNAME:EDT
DTSTART:20250309T070000
END:DAYLIGHT
BEGIN:STANDARD
TZOFFSETFROM:-0400
TZOFFSETTO:-0500
TZNAME:EST
DTSTART:20251102T060000
END:STANDARD
END:VTIMEZONE
BEGIN:VEVENT
DTSTART;TZID=America/New_York:20250224T110000
DTEND;TZID=America/New_York:20250224T120000
DTSTAMP:20260420T023402
CREATED:20241017T152416Z
LAST-MODIFIED:20250102T204232Z
UID:18197-1740394800-1740398400@gbta.org
SUMMARY:Global Leadership Professional (GLP) Program
DESCRIPTION:Course dates: February 24\, 2025 – July 20\, 2025 \nThe Global Leadership Professional (GLP) Program is the only educational initiative designed to provide cutting-edge business insights and immersive learning experiences in partnership with leading international education. The program offers a blended learning format with masters-level courses in Marketing\, Management\, Leadership and Finance provided in partnership with Cornell University. Ideal for senior-level industry professionals the GLP program provides learners with the opportunity to build a network of like-minded business travel professionals while refining their knowledge with expert education designed for the business travel leader. \nCore Curriculum \n\nLeading a VUCA world\nBuilding high-performance virtual teams\nDigital marketing and the customer journey\nFinance and accounting principles\nIntroduction to AI\nLeading for success\nGLP Program Capstone (Denver\, CO\, pre-convention)\n\nThe GLP Program is a two-part credential combining coursework and a capstone project. Upon completing both\, participants will earn a lifetime certification and GLP Designation. \n Location of Event\n\nA combination of virtual and in-person classes.\nProgram capstone is in-person in Denver\, CO\, pre-GBTA Convention 2025. Convention attendance not required. \nPricing\n\n$5\,495 member/$7\,495 non-member
URL:https://gbta.org/fr/event/global-leadership-professional-glp-program/
CATEGORIES:Europe,Learning,North America
END:VEVENT
END:VCALENDAR