BEGIN:VCALENDAR
VERSION:2.0
PRODID:-//Global Business Travel Association - GBTA - ECPv6.9.0//NONSGML v1.0//EN
CALSCALE:GREGORIAN
METHOD:PUBLISH
X-WR-CALNAME:Global Business Travel Association - GBTA
X-ORIGINAL-URL:https://gbta.org/fr
X-WR-CALDESC:Évènements pour Global Business Travel Association - GBTA
REFRESH-INTERVAL;VALUE=DURATION:PT1H
X-Robots-Tag:noindex
X-PUBLISHED-TTL:PT1H
BEGIN:VTIMEZONE
TZID:America/New_York
BEGIN:DAYLIGHT
TZOFFSETFROM:-0500
TZOFFSETTO:-0400
TZNAME:EDT
DTSTART:20250309T070000
END:DAYLIGHT
BEGIN:STANDARD
TZOFFSETFROM:-0400
TZOFFSETTO:-0500
TZNAME:EST
DTSTART:20251102T060000
END:STANDARD
END:VTIMEZONE
BEGIN:VEVENT
DTSTART;TZID=America/New_York:20250307T090000
DTEND;TZID=America/New_York:20250307T120000
DTSTAMP:20260420T041926
CREATED:20241218T182440Z
LAST-MODIFIED:20241218T182440Z
UID:19596-1741338000-1741348800@gbta.org
SUMMARY:Gira GBTA Mexico 2025 - Merida
DESCRIPTION:La Gira GBTA por Mexico son eventos creados para promover el networking de diversas ciudades de Mexico. Una breve introducción o recordatorio de como GBTA es tu alidado en el crecimiento profesional de tu carrera mientras disfrutas un rico coffee break aompliando tu red de contactos. \nHora: 9am-12pm (hora local)\nLugar: Hilton Garden Inn Merida\nSin costo para miembros y no miembros de GBTA
URL:https://gbta.org/fr/event/gira-gbta-mexico-2025-merida/
CATEGORIES:LATAM,US Chapter Event
END:VEVENT
BEGIN:VEVENT
DTSTART;TZID=America/New_York:20250307T110000
DTEND;TZID=America/New_York:20250307T114500
DTSTAMP:20260420T041926
CREATED:20250211T224123Z
LAST-MODIFIED:20250212T135816Z
UID:21121-1741345200-1741347900@gbta.org
SUMMARY:GBTA WINiT Webinar: #AccelerateAction
DESCRIPTION:Join us for a dynamic 45-minute session at the 2025 International Women’s Day global virtual event\, themed #AccelerateAction. \nThis session\, hosted by GBTA WINiT\, explores actionable pathways to achieve gender equality within the business travel industry and beyond. Aligned with the WINiT initiative Path to Parity\, we’ll discuss strategies to inspire change\, highlighting success stories\, and how you can support the women of our industry. \nFree Webinar  |  Friday\, March 7th  |  11:00 am ET \nRegister today regardless of your ability to join live. All registrants will receive a recording of the webinar.
URL:https://gbta.org/fr/event/gbta-winit-accelerateaction/
CATEGORIES:Virtual,WINiT
END:VEVENT
END:VCALENDAR