BEGIN:VCALENDAR
VERSION:2.0
PRODID:-//Global Business Travel Association - GBTA - ECPv6.9.0//NONSGML v1.0//EN
CALSCALE:GREGORIAN
METHOD:PUBLISH
X-WR-CALNAME:Global Business Travel Association - GBTA
X-ORIGINAL-URL:https://gbta.org/fr
X-WR-CALDESC:Évènements pour Global Business Travel Association - GBTA
REFRESH-INTERVAL;VALUE=DURATION:PT1H
X-Robots-Tag:noindex
X-PUBLISHED-TTL:PT1H
BEGIN:VTIMEZONE
TZID:America/New_York
BEGIN:DAYLIGHT
TZOFFSETFROM:-0500
TZOFFSETTO:-0400
TZNAME:EDT
DTSTART:20250309T070000
END:DAYLIGHT
BEGIN:STANDARD
TZOFFSETFROM:-0400
TZOFFSETTO:-0500
TZNAME:EST
DTSTART:20251102T060000
END:STANDARD
END:VTIMEZONE
BEGIN:VEVENT
DTSTART;TZID=America/New_York:20250313T110000
DTEND;TZID=America/New_York:20250313T130000
DTSTAMP:20260420T023214
CREATED:20250307T173424Z
LAST-MODIFIED:20250307T173424Z
UID:21519-1741863600-1741870800@gbta.org
SUMMARY:Utah Business Travel Association Monthly Meeting
DESCRIPTION:Utah Business Travel Association\nDescription: With Salt Lake City securing the 2034 Olympic Winter Games and the NHL adding a franchise\, sports tourism is booming in Utah. This even is an opportunity to discover the factors behind this momentum and how local communities\, including the business travel community\, can take advantage of its positive impact.\nSpeaker: Clay Partain\, Chief Sports Officer at Visit Salt Lake and Secretary Treasurer of the Sports Event and Tourism Association\nLocation: Ken Garff University Club at Rice Eccles Stadium\, Salt Lake City\, UT\nPrice: $0.00 for members/$35.00 for guests
URL:https://gbta.org/fr/event/utah-business-travel-association-monthly-meeting-3/
CATEGORIES:North America,US Chapter Event
END:VEVENT
BEGIN:VEVENT
DTSTART;TZID=America/New_York:20250313T110000
DTEND;TZID=America/New_York:20250313T130000
DTSTAMP:20260420T023214
CREATED:20250312T184718Z
LAST-MODIFIED:20250312T184718Z
UID:21604-1741863600-1741870800@gbta.org
SUMMARY:Utah Business Travel Association Monthly Meeting
DESCRIPTION:Utah Business Travel Association\nThis month’s meeting focuses how Sports tourism is experiencing significant growth both nationally and internationally\, with Salt Lake City positioning itself as a prominent hub for this burgeoning industry. Discover the factors contributing to this momentum and explore how communities can take advantage of its positive impact. Join Clay Partain\, Chief Sports Officer at Visit Salt Lake and Secretary Treasurer of the Sports Events and Tourism Association\, as he shares valuable insights and a unique perspective on maximizing opportunities in this dynamic market. This will give both buyers and suppliers a unique look into how the growth of sports tourism in Salt Lake will impact the market and how both should plan and consider what this means for RFPs\, future meetings and impact on business travel in the area.
URL:https://gbta.org/fr/event/utah-business-travel-association-monthly-meeting-4/
CATEGORIES:North America,US Chapter Event
END:VEVENT
BEGIN:VEVENT
DTSTART;TZID=America/New_York:20250313T110000
DTEND;TZID=America/New_York:20250313T131500
DTSTAMP:20260420T023214
CREATED:20250226T163929Z
LAST-MODIFIED:20250311T071737Z
UID:21394-1741863600-1741871700@gbta.org
SUMMARY:Enhancing Your Travel Program Effectiveness - GTP Credit Approved
DESCRIPTION:GBTA North Central March Monthly Program \n \nEmbassy Suites by Hilton Minneapolis Airport\n7901 34th Ave S.\nBloomington\, MN 55425 \nMarch 13th\, 2025\n11:00AM Networking\n11:30 Lunch\n12:00 – 1:15PM Meeting and Wrap-up \nJoin us on March 13th for a Travel Buyer Panel discussion. Travel and Expense leaders will discuss how they are enhancing their travel program effectiveness in 2025.\nWe’ll discuss high-level concerns\, global travel policy factors\, NDC progress\, and emerging technologies. \nOur featured panelists include:\nTodd Chrustowski\, Travel and Expense Operations Specialist\, General Mills\nKim Meck\, Manager\, Global Travel\, Kimberly-Clark Corporation\nKara Peters\, Strategic Sourcing Manager\, Sick
URL:https://gbta.org/fr/event/enhancing-your-travel-program-effectiveness/
CATEGORIES:North America,US Chapter Event
END:VEVENT
BEGIN:VEVENT
DTSTART;TZID=America/New_York:20250313T120000
DTEND;TZID=America/New_York:20250313T130000
DTSTAMP:20260420T023214
CREATED:20250312T184905Z
LAST-MODIFIED:20250312T184905Z
UID:21608-1741867200-1741870800@gbta.org
SUMMARY:Safety Tips for Business Travel - Virtual Webinar
DESCRIPTION:We’re thrilled to invite you to GBTA | Central & Northern Florida’s first-ever webinar on Thursday\, March 13th—a must-attend event for anyone involved in corporate travel! \nOur featured speaker\, Jake Newton\, COO of CPPS\, brings over 15 years of expertise in individual and organizational security. He’ll explore critical safety and security concepts for both domestic and international business travel. \nWhat You’ll Learn:\n🔹 How to bridge the gap between employer-provided travel resources and traveler awareness\n🔹 Common challenges like personal booking preferences\, disruption response\, and risk mitigation\n🔹 The power of comprehensive traveler training and how to secure buy-in for TRM (Travel Risk Management) programs\n🔹 Actionable strategies to equip travelers with the knowledge they need for safer\, more informed journeys
URL:https://gbta.org/fr/event/safety-tips-for-business-travel-virtual-webinar/
CATEGORIES:North America,US Chapter Event
END:VEVENT
END:VCALENDAR