BEGIN:VCALENDAR
VERSION:2.0
PRODID:-//Global Business Travel Association - GBTA - ECPv6.9.0//NONSGML v1.0//EN
CALSCALE:GREGORIAN
METHOD:PUBLISH
X-ORIGINAL-URL:https://gbta.org/fr
X-WR-CALDESC:Évènements pour Global Business Travel Association - GBTA
REFRESH-INTERVAL;VALUE=DURATION:PT1H
X-Robots-Tag:noindex
X-PUBLISHED-TTL:PT1H
BEGIN:VTIMEZONE
TZID:America/New_York
BEGIN:DAYLIGHT
TZOFFSETFROM:-0500
TZOFFSETTO:-0400
TZNAME:EDT
DTSTART:20250309T070000
END:DAYLIGHT
BEGIN:STANDARD
TZOFFSETFROM:-0400
TZOFFSETTO:-0500
TZNAME:EST
DTSTART:20251102T060000
END:STANDARD
END:VTIMEZONE
BEGIN:VEVENT
DTSTART;TZID=America/New_York:20250318T110000
DTEND;TZID=America/New_York:20250318T130000
DTSTAMP:20260420T023407
CREATED:20241017T161132Z
LAST-MODIFIED:20241203T142026Z
UID:18246-1742295600-1742302800@gbta.org
SUMMARY:Sustainable Travel Management
DESCRIPTION:Course Dates: March 18-April 15\, 2025\nTimes: Live online classes weekly\, 11:00AM-1:00PM EDT  |  3:00PM-5:00PM GMT \nWonder how the course times translate to your local time? Check out this Time Convertor World Clock \nCompanies around the world are now examining their business travel practices as a lever to reduce overall emissions. But what does this mean in practice\, and how can travel programs contribute to the effort? GBTA’s Sustainable Travel Management course focuses on the practical application of climate action and the management\, reduction\, and tracking of carbon emissions from business travel. This training course will address the challenges and opportunities as forward-thinking organizations look to launch or advance their sustainable travel management program. \nParticipants earn 10 GTP Recertification credits. \nCore Curriculum \n\nEmissions-reducing technologies in business travel\nEmpowering travelers to make informed decisions via travel policy\, booking tools\, and more\nEmissions tracking\nSustainability criteria to aid in the selection of suppliers\n\nPricing \n$450 member/$675 non-member
URL:https://gbta.org/fr/event/sustainable-travel-management-3/
CATEGORIES:Africa,Canada,Europe,France,Italy,Learning,North America,Online Courses & Webinars,Sustainability,Virtual
END:VEVENT
END:VCALENDAR