BEGIN:VCALENDAR
VERSION:2.0
PRODID:-//Global Business Travel Association - GBTA - ECPv6.9.0//NONSGML v1.0//EN
CALSCALE:GREGORIAN
METHOD:PUBLISH
X-ORIGINAL-URL:https://gbta.org/fr
X-WR-CALDESC:Évènements pour Global Business Travel Association - GBTA
REFRESH-INTERVAL;VALUE=DURATION:PT1H
X-Robots-Tag:noindex
X-PUBLISHED-TTL:PT1H
BEGIN:VTIMEZONE
TZID:America/New_York
BEGIN:DAYLIGHT
TZOFFSETFROM:-0500
TZOFFSETTO:-0400
TZNAME:EDT
DTSTART:20250309T070000
END:DAYLIGHT
BEGIN:STANDARD
TZOFFSETFROM:-0400
TZOFFSETTO:-0500
TZNAME:EST
DTSTART:20251102T060000
END:STANDARD
END:VTIMEZONE
BEGIN:VEVENT
DTSTART;TZID=America/New_York:20250319T120000
DTEND;TZID=America/New_York:20250319T180000
DTSTAMP:20260420T023405
CREATED:20241211T152944Z
LAST-MODIFIED:20241211T153153Z
UID:19422-1742385600-1742407200@gbta.org
SUMMARY:GBTA Convention Supplier Summit 2025
DESCRIPTION:GBTA’s Convention Supplier Summit in Denver is your go-to event to kick-start 2025. Don’t miss this opportunity to unite with industry colleagues and learn about what GBTA has in store for 2025\, how you can maximize your GBTA experience\, and plan and prepare for GBTA Convention 2025. This is an excellent opportunity to explore and create customized opportunities to enhance visibility of your company while learning best practices and tips to position you for Convention success. \nStart Date and Time:\nMarch 19\, 2025; 12:00 PM MT\nEnd Date and Time:\nMarch 19\, 2025; 6:00 PM MT \nLocation:\nColorado Convention Center\n700 14th St\, Denver\, CO 80202 \nVenue Information:\nMeeting Room name to be confirmed via email to registered attendees. \nPricing & RSVP: Complimentary for Suppliers \nLearn More
URL:https://gbta.org/fr/event/gbta-convention-supplier-summit-2025/
CATEGORIES:Summits & Workshops
END:VEVENT
END:VCALENDAR