BEGIN:VCALENDAR
VERSION:2.0
PRODID:-//Global Business Travel Association - GBTA - ECPv6.9.0//NONSGML v1.0//EN
CALSCALE:GREGORIAN
METHOD:PUBLISH
X-ORIGINAL-URL:https://gbta.org/fr
X-WR-CALDESC:Évènements pour Global Business Travel Association - GBTA
REFRESH-INTERVAL;VALUE=DURATION:PT1H
X-Robots-Tag:noindex
X-PUBLISHED-TTL:PT1H
BEGIN:VTIMEZONE
TZID:America/New_York
BEGIN:DAYLIGHT
TZOFFSETFROM:-0500
TZOFFSETTO:-0400
TZNAME:EDT
DTSTART:20250309T070000
END:DAYLIGHT
BEGIN:STANDARD
TZOFFSETFROM:-0400
TZOFFSETTO:-0500
TZNAME:EST
DTSTART:20251102T060000
END:STANDARD
END:VTIMEZONE
BEGIN:VEVENT
DTSTART;TZID=America/New_York:20250408T083000
DTEND;TZID=America/New_York:20250408T123000
DTSTAMP:20260420T005047
CREATED:20250103T074701Z
LAST-MODIFIED:20250206T173016Z
UID:19716-1744101000-1744115400@gbta.org
SUMMARY:GBTA LATAM Business Travel Forum 2025 - Lima | 8 de abril
DESCRIPTION:Tailored Events for Travel Managers (Corporate Travel Buyers)\nThe GBTA LATAM Business Travel Forums are a series of exclusive half-day events crafted for Travel Managers in the corporate travel sector\, taking place in major cities across Argentina\, Brazil\, Colombia\, Mexico\, Chile\, and Peru.\nLast year\, we gathered over 200 industry professionals at our events. This year\, don’t miss the chance to be part of this exceptional opportunity. \nBy attending\, you will:\n• Gain updated insights to enhance your corporate travel programs.\n• Expand your network and connect with fellow professionals in your region.\n• Discover key aspects of travel procurement\, including airlines\, hotels\, car rental services\, travel management companies\, expense reporting\, and risk management.\n• Engage with select sponsors who make this event possible.\n• Invest in your personal and professional growth. \n–  Sign up here to get notified when registration opens. \n–  Regístrese aquí para recibir una notificación cuando se abra el registro. \n\nLearn MoreConocer más
URL:https://gbta.org/fr/event/gbta-latam-business-travel-forum-2025-lima-8-de-abril/
CATEGORIES:LATAM,Summits & Workshops
END:VEVENT
BEGIN:VEVENT
DTSTART;TZID=America/New_York:20250408T110000
DTEND;TZID=America/New_York:20250408T131000
DTSTAMP:20260420T005047
CREATED:20250317T162605Z
LAST-MODIFIED:20250325T083735Z
UID:21694-1744110000-1744117800@gbta.org
SUMMARY:GBTA Tennessee April Chapter Meeting: Cool Tools\, Hip Tips & Tech Trends to Reinvent Meetings - GTP Credit Approved
DESCRIPTION:GBTA Tennessee \nInnovation and rapid industry evolution are transforming the way we plan meetings. Join Shalini (Shals) Iyer\, as she explores key trends\, future forecasts\, and valuable resources to help you plan successful events in 2025 and beyond. Discover emerging technologies and marketplace tools designed to optimize costs\, save time\, and enhance efficiency for both meeting planners and venues. Wrap up the session with practical tips and best practices to turn these insights into a strategic meetings program that drives exceptional value — ensuring you and your events continue to Thrive in 2025 and beyond! \n \nShalini Iyer\, Director of Strategic Partnerships\, hubli \nThe Bankers Alley Hotel Nashville\n221 2nd Ave N\nNashville\, TN 37201 \nTickets\n$40.00 GBTA-TN Member Registration\n$50.00 after 06:00 am April 7 \n$40.00 GBTA All-Access Registration\n$50.00 after 06:00 am April 7 \n$50.00 Guest Registration\n$60.00 after 06:00 am April 7
URL:https://gbta.org/fr/event/gbta-tennessee-april-chapter-meeting-cool-tools-hip-tips-tech-trends-to-reinvent-meetings/
CATEGORIES:North America,US Chapter Event
END:VEVENT
END:VCALENDAR