BEGIN:VCALENDAR
VERSION:2.0
PRODID:-//Global Business Travel Association - GBTA - ECPv6.9.0//NONSGML v1.0//EN
CALSCALE:GREGORIAN
METHOD:PUBLISH
X-WR-CALNAME:Global Business Travel Association - GBTA
X-ORIGINAL-URL:https://gbta.org/fr
X-WR-CALDESC:Évènements pour Global Business Travel Association - GBTA
REFRESH-INTERVAL;VALUE=DURATION:PT1H
X-Robots-Tag:noindex
X-PUBLISHED-TTL:PT1H
BEGIN:VTIMEZONE
TZID:America/New_York
BEGIN:DAYLIGHT
TZOFFSETFROM:-0500
TZOFFSETTO:-0400
TZNAME:EDT
DTSTART:20250309T070000
END:DAYLIGHT
BEGIN:STANDARD
TZOFFSETFROM:-0400
TZOFFSETTO:-0500
TZNAME:EST
DTSTART:20251102T060000
END:STANDARD
END:VTIMEZONE
BEGIN:VEVENT
DTSTART;TZID=America/New_York:20250410T110000
DTEND;TZID=America/New_York:20250410T130000
DTSTAMP:20260420T010008
CREATED:20250402T165435Z
LAST-MODIFIED:20250410T154117Z
UID:21956-1744282800-1744290000@gbta.org
SUMMARY:UBTA Monthly Meeting - GTP Credit Approved
DESCRIPTION:Utah Business Travel Association\nMonthly Meeting\n“TMC’s and the Future – What Lies Ahead”\nBe part of a thought-provoking panel discussion as TMC experts share their perspectives on the future of Travel Management Companies in a rapidly changing environment. \n \nJoining us in this lively panel are George Kalka\, Senior Vice President\, Business Travel\, Fox World Travel; Mike Cameron\, CEO and Owner\, Christopherson Business Travel\, Greg Ross\, Vice President of Relationship Management at Amtrav and Kyle Keating from Navan.
URL:https://gbta.org/fr/event/ubta-monthly-meeting/
CATEGORIES:North America,US Chapter Event
END:VEVENT
BEGIN:VEVENT
DTSTART;TZID=America/New_York:20250410T150000
DTEND;TZID=America/New_York:20250410T180000
DTSTAMP:20260420T010008
CREATED:20250324T174054Z
LAST-MODIFIED:20250324T174054Z
UID:21793-1744297200-1744308000@gbta.org
SUMMARY:All About Networking
DESCRIPTION:The GBTA Silicon Valley Chapter is excited to invite you to our ALL About Networking event and Allied Only Meeting! This is your chance to connect with fellow professionals\, exchange ideas\, and grow your business network. \nWhat to Expect: \n3:00 pm Allied Only Meeting – Reimagining Travel – where allied members have an opportunity to engage with Justin Schuster\, Spotnana.\n4:00 pm Invaluable Networking Opportunities with industry peers\nDelicious drinks and food hosted by Citizen M Hotel in Menlo Park\nDon’t miss out on this amazing opportunity to expand your professional circle! \nMark your calendars and come enjoy a fantastic evening of conversation\, collaboration\, and connection. \nSee you there!
URL:https://gbta.org/fr/event/all-about-networking-7/
CATEGORIES:North America,US Chapter Event
END:VEVENT
END:VCALENDAR