BEGIN:VCALENDAR
VERSION:2.0
PRODID:-//Global Business Travel Association - GBTA - ECPv6.9.0//NONSGML v1.0//EN
CALSCALE:GREGORIAN
METHOD:PUBLISH
X-WR-CALNAME:Global Business Travel Association - GBTA
X-ORIGINAL-URL:https://gbta.org/fr
X-WR-CALDESC:Évènements pour Global Business Travel Association - GBTA
REFRESH-INTERVAL;VALUE=DURATION:PT1H
X-Robots-Tag:noindex
X-PUBLISHED-TTL:PT1H
BEGIN:VTIMEZONE
TZID:America/New_York
BEGIN:DAYLIGHT
TZOFFSETFROM:-0500
TZOFFSETTO:-0400
TZNAME:EDT
DTSTART:20250309T070000
END:DAYLIGHT
BEGIN:STANDARD
TZOFFSETFROM:-0400
TZOFFSETTO:-0500
TZNAME:EST
DTSTART:20251102T060000
END:STANDARD
END:VTIMEZONE
BEGIN:VEVENT
DTSTART;TZID=America/New_York:20250604T093000
DTEND;TZID=America/New_York:20250604T140000
DTSTAMP:20260420T001859
CREATED:20250218T164244Z
LAST-MODIFIED:20250527T071831Z
UID:21297-1749029400-1749045600@gbta.org
SUMMARY:Roadshow GBTA Italia\, Roma
DESCRIPTION:Il Roadshow di GBTA Italia torna a Roma con un appuntamento immancabile. \nNell’edizione 2025 del Roadshow di Roma\, con relatori d’eccezione\, si parlerà di aspettative e 𝐀𝐧𝐝𝐚𝐦𝐞𝐧𝐭𝐨 𝐝𝐞𝐥 𝐌𝐞𝐫𝐜𝐚𝐭𝐨\, di 𝐏𝐞𝐨𝐩𝐥𝐞 & 𝐏𝐥𝐚𝐧𝐞𝐭 e di Best Practice di 𝐓𝐫𝐚𝐯𝐞𝐥 𝐌𝐚𝐧𝐚𝐠𝐞𝐦𝐞𝐧𝐭. Ingresso gratuito\, previa registrazione. \nNetworking\, Aggiornamento\, Best Practice (in blue). Con Talk\, Masterclass e Insight\, durante la mattinata verranno esplorate in modo smart e pratico le tematiche più attuali di Business Travel. Non mancare! \nRegistrati qua: https://events.gbta.org/GeP3w7 \nLocation\nIl Roadshow si tiene al Best Western Plus Hotel Universo a pochi passi dalla Stazione Roma Termini e dal Teatro dell’Opera in Via Principe Amedeo 5/B – Roma (RM) \n\n			\n				\n			\n			\n				\n			\n			\n				\n			\n		\n\nAgenda\nL’agenda è in via di definizione. Gli orari del Roadshow sono: \n9.45 – Accredito e Welcome Coffee\n10.15 – Inizio lavori\n12.45 – Light Lunch \n Relatori\nTra i relatori\, saranno presenti: \n  \n  \n\n\n\n\n\n\n\n\n\nAndrea Giuricin\nCEO\n@ TRA Consulting\nLoredana Merelli\nTravel Manager\n@ KPMG\nFederico De Carlo\nItaly Managing Director\n@ CDS GROUPE\nCesare Belosi\nGlobal Travel & Expenses Manager\n@ CNH\n\n\n\n  \n  \n\n\n\n\n\n\n\n\n\nLorenzo Lagorio\nCountry Manager Italia\n@easyJet\nValentina Ubaldi\nHead of HR Mobility and ESG  Solutions\n@ Zucchetti\nChristian Isola\nChief Commercial Officer\n@ Locauto Group\n\n\n\n\n  \nAccesso\nL’evento è dedicato a Travel/Event/Mobility Manager e Supplier del Travel. \nL’accesso all’evento è gratuito\, previa registrazione. I posti sono limitati\, consigliamo la registrazione appena possibile. \nIl roadshow è possibile grazie a: \n\n			\n				\n			\n			\n				\n			\n			\n				\n			\n			\n				\n			\n			\n				\n			\n		\n\nRegistrazioni
URL:https://gbta.org/fr/event/roadshow-gbta-italia-roma/
CATEGORIES:Italy,Roadshow
END:VEVENT
BEGIN:VEVENT
DTSTART;TZID=America/New_York:20250604T140000
DTEND;TZID=America/New_York:20250604T170000
DTSTAMP:20260420T001859
CREATED:20250407T113355Z
LAST-MODIFIED:20250410T162151Z
UID:21994-1749045600-1749056400@gbta.org
SUMMARY:GBTA + VDR Europe Conference 2025 | Hamburg Supplier Summit
DESCRIPTION:Description: Join us at GBTA + VDR Europe Conference 2025 | Hamburg Supplier Summit to unite with industry colleagues to plan and prepare for this year’s Conference. This is an excellent opportunity to explore and create customized opportunities to enhance your company’s visibility while learning best practices and tips to position you for Conference success. \nRegister Now\nStart Date and Time: Wednesday\, 4 June 14:00 CEST\nEnd Date and Time: Wednesday\, 4 June 17:00 CEST \nAgenda: \n14:00 Welcome: sponsors arrive for Supplier Summit with refreshments on arrival \n14:30 – 15:30 Presentations\n• Welcome\n• Market insights\n• Event evolution\n• Sponsorship and expo opportunities\n• Maximising your presence \n15:30 – 17:00 Venue Tour\n• Registration/Cloakroom/Viewing Gallery/Broadcast Studio\nMain Stage\n• Expo and Catering/Expo selection\n• Education Session Breakout Rooms\, Braindate\n• Questions and Close \n19:00 Drinks and Dinner – details TBD \nLocation:\nCCH Congress Center Hamburg\nCongresspl 1\nHamburg 20355 \nPricing & RSVP: Complimentary for suppliers
URL:https://gbta.org/fr/event/gbta-vdr-europe-conference-2025-hamburg-supplier-summit/
CATEGORIES:Europe,Summits & Workshops
END:VEVENT
END:VCALENDAR