BEGIN:VCALENDAR
VERSION:2.0
PRODID:-//Global Business Travel Association - GBTA - ECPv6.9.0//NONSGML v1.0//EN
CALSCALE:GREGORIAN
METHOD:PUBLISH
X-ORIGINAL-URL:https://gbta.org/fr
X-WR-CALDESC:Évènements pour Global Business Travel Association - GBTA
REFRESH-INTERVAL;VALUE=DURATION:PT1H
X-Robots-Tag:noindex
X-PUBLISHED-TTL:PT1H
BEGIN:VTIMEZONE
TZID:America/New_York
BEGIN:DAYLIGHT
TZOFFSETFROM:-0500
TZOFFSETTO:-0400
TZNAME:EDT
DTSTART:20250309T070000
END:DAYLIGHT
BEGIN:STANDARD
TZOFFSETFROM:-0400
TZOFFSETTO:-0500
TZNAME:EST
DTSTART:20251102T060000
END:STANDARD
END:VTIMEZONE
BEGIN:VEVENT
DTSTART;TZID=America/New_York:20250911T070000
DTEND;TZID=America/New_York:20250911T170000
DTSTAMP:20260419T213826
CREATED:20250812T103736Z
LAST-MODIFIED:20250822T160830Z
UID:25364-1757574000-1757610000@gbta.org
SUMMARY:GBTA Oregon & Puget Sound Education Day - GTP Credit Approved
DESCRIPTION:GBTA Oregon +Puget Sounds Education Day where you’ll learn skills that contribute to career advancement\, increased earning potential\, enhanced job security and personal growth. This years agenda is full of impactful sessions and interactive breakouts focused on the latest in travel management\, and corporate travel solutions. Don’t miss this opportunity to elevate your skills and stay ahead in the ever evolving travel landscape. \n \nDon’t forget the Supplier Showcase and Raffle Prizes!\nSalem Convention Center | September 11\, 2025 7am-5pm
URL:https://gbta.org/fr/event/gbta-oregon-puget-sound-education-day/
CATEGORIES:North America,US Chapter Event
END:VEVENT
BEGIN:VEVENT
DTSTART;TZID=America/New_York:20250911T110000
DTEND;TZID=America/New_York:20250911T130000
DTSTAMP:20260419T213826
CREATED:20250822T161028Z
LAST-MODIFIED:20250826T121852Z
UID:25580-1757588400-1757595600@gbta.org
SUMMARY:Airline Panel & Discussion - TP Credit Approved
DESCRIPTION:Utah Chapter \nJoin us for our September meeting featuring a dynamic panel discussion with representatives from five leading airlines. Gain insider insights into the future of corporate travel\, hear directly from industry decision-makers\, and explore strategies for optimizing your travel programs. Whether you’re managing travel for your organization or navigating the skies yourself\, this is a can’t-miss opportunity to connect\, learn\, and elevate your travel game. Featuring representatives from Delta\, Southwest\, American\, Copa Airline and Fiji Airways. \n \nAmerican Airlines – David Grant\nDelta Airlines – Brie Davis\nSouthwest Airlines – Kyle Brown\nCopa Airlines – Robert Montgomery\nFiji Airways – Stroebel Bekker \nSalt Lake City Airport Meeting Space \nMember: $0.00\nGuests: $35.00
URL:https://gbta.org/fr/event/airline-panel-discussion/
CATEGORIES:North America,US Chapter Event
END:VEVENT
END:VCALENDAR