BEGIN:VCALENDAR
VERSION:2.0
PRODID:-//Global Business Travel Association - GBTA - ECPv6.9.0//NONSGML v1.0//EN
CALSCALE:GREGORIAN
METHOD:PUBLISH
X-ORIGINAL-URL:https://gbta.org/fr
X-WR-CALDESC:Évènements pour Global Business Travel Association - GBTA
REFRESH-INTERVAL;VALUE=DURATION:PT1H
X-Robots-Tag:noindex
X-PUBLISHED-TTL:PT1H
BEGIN:VTIMEZONE
TZID:America/New_York
BEGIN:DAYLIGHT
TZOFFSETFROM:-0500
TZOFFSETTO:-0400
TZNAME:EDT
DTSTART:20250309T070000
END:DAYLIGHT
BEGIN:STANDARD
TZOFFSETFROM:-0400
TZOFFSETTO:-0500
TZNAME:EST
DTSTART:20251102T060000
END:STANDARD
END:VTIMEZONE
BEGIN:VEVENT
DTSTART;VALUE=DATE:20251007
DTEND;VALUE=DATE:20251029
DTSTAMP:20260419T194741
CREATED:20241017T162208Z
LAST-MODIFIED:20250707T142358Z
UID:18263-1759795200-1761695999@gbta.org
SUMMARY:The Fundamentals of Business Travel Management
DESCRIPTION:Course dates: October 7 – October 28 \nTimes: Live online classes weekly\, 10:00AM-12:00PM ET \nThe Fundamentals of Business Travel Management course is designed for travel buyers and suppliers who want a deeper understanding of the foundational elements of a corporate travel policy. Learners will gain a better understanding of business travel management and make themselves indispensable to the needs of their organization. \nParticipants earn 14 GTP Recertification credits. \nCore Curriculum \n\nOverview of Travel Management\nTravel Policy\nCreating a Service Model\nTravel Technology Basics\nStrategic Sourcing/Vendor Management\n\nRegister by September 30
URL:https://gbta.org/fr/event/the-fundamentals-of-business-travel-management-8/
CATEGORIES:Europe,Learning,North America,Virtual
END:VEVENT
BEGIN:VEVENT
DTSTART;TZID=America/New_York:20251021T113000
DTEND;TZID=America/New_York:20251021T160000
DTSTAMP:20260419T194741
CREATED:20250926T130653Z
LAST-MODIFIED:20250930T073212Z
UID:26350-1761046200-1761062400@gbta.org
SUMMARY:Jacksonville Education Day - GTP Credit Approved
DESCRIPTION:Jamie Meek\, GoldSpring Consulting\, will lead a power packed Corporate Travel Manager Panel and workshop to discuss the challenges and successes of making sure your corporate travel program speaks to the multi-generational workforce. Following the panel\, an interactive roundtable exercise will commence that highlights what suppliers can do to help the topic of the needs of multi-generational workforces. Don’t miss and update from Jeanne Goldschmidt\, from Visit Jacksonville will provide insights on tourism and convention updates impacting the greater Jacksonville area along with available resources.
URL:https://gbta.org/fr/event/jacksonville-education-day/
CATEGORIES:North America,US Chapter Event
END:VEVENT
END:VCALENDAR