BEGIN:VCALENDAR
VERSION:2.0
PRODID:-//Global Business Travel Association - GBTA - ECPv6.9.0//NONSGML v1.0//EN
CALSCALE:GREGORIAN
METHOD:PUBLISH
X-ORIGINAL-URL:https://gbta.org/fr
X-WR-CALDESC:Évènements pour Global Business Travel Association - GBTA
REFRESH-INTERVAL;VALUE=DURATION:PT1H
X-Robots-Tag:noindex
X-PUBLISHED-TTL:PT1H
BEGIN:VTIMEZONE
TZID:America/New_York
BEGIN:DAYLIGHT
TZOFFSETFROM:-0500
TZOFFSETTO:-0400
TZNAME:EDT
DTSTART:20250309T070000
END:DAYLIGHT
BEGIN:STANDARD
TZOFFSETFROM:-0400
TZOFFSETTO:-0500
TZNAME:EST
DTSTART:20251102T060000
END:STANDARD
END:VTIMEZONE
BEGIN:VEVENT
DTSTART;VALUE=DATE:20251113
DTEND;VALUE=DATE:20251115
DTSTAMP:20260419T205629
CREATED:20250407T113204Z
LAST-MODIFIED:20251008T095116Z
UID:21988-1762992000-1763164799@gbta.org
SUMMARY:GBTA Workforce Mobility & Travel Summit  - GTP Credit Approved
DESCRIPTION:Engage with business travel professionals at GBTA’s Workforce Mobility & Travel Summit (Formerly Project Crew and Team Travel Summit PCTT) on November 13th and 14th in Phoenix\, AZ. Join us for an event that begins with a Welcome Reception\, followed by a one-day education program exploring how operations shape the traveler experience. Sessions will cover topics from understanding unique traveler personas and strengthening duty of care to enhancing buyer–supplier partnerships and navigating negotiations and specialty travel contracting. This summit is ideal for specialized buyers and suppliers in the sports\, entertainment\, emergency management\, non-profit\, energy\, project\, and consultancy sectors. \nLet’s keep workforce travel moving forward!
URL:https://gbta.org/fr/event/gbta-workforce-mobility-travel-summit-2025/
CATEGORIES:North America
END:VEVENT
BEGIN:VEVENT
DTSTART;TZID=America/New_York:20251113T110000
DTEND;TZID=America/New_York:20251113T130000
DTSTAMP:20260419T205629
CREATED:20250806T140805Z
LAST-MODIFIED:20250820T171352Z
UID:25264-1763031600-1763038800@gbta.org
SUMMARY:UBTA November 2025 Luncheon - Will AI replacement the Travel Manager? - GTP Approved
DESCRIPTION:Chapter: Utah \nDescription: Explore how AI is redefining the roles of travel managers and procurement leaders.  Assess the benefits of AI-driven platforms in traveler satisfaction\, spend optimization\, and program compliance white understanding where human expertise remains critical. \n \nEvent Speaker: Will Pinnell – Managing Director of the Americas for HRS \nLocation of Event: Embassy Suites West Valley Utah\n3524 South Market Street\nWest Valley City\, UT 84119 \nPrice: $0.00 for Members\, $35 for guests
URL:https://gbta.org/fr/event/ubta-november-2025-luncheon-will-ai-replacement-the-travel-manager/
CATEGORIES:North America,US Chapter Event
END:VEVENT
BEGIN:VEVENT
DTSTART;TZID=America/New_York:20251113T113000
DTEND;TZID=America/New_York:20251113T150000
DTSTAMP:20260419T205629
CREATED:20251023T152210Z
LAST-MODIFIED:20251023T152210Z
UID:26895-1763033400-1763046000@gbta.org
SUMMARY:CNFBTA- Giving Back at Give Kids The World Village
DESCRIPTION:CNFBTA will be at Give Kids The World Village for a memorable day of education and giving back. Our keynote speaker is Katie Virtue who will speak on “Bold Balance- Escaping the perfectionist trap and beating burnout.” \nWe will also hear from Give Kids The World’s CEO\, Caroline Schumacher and then end the day with a fun volunteer opportunity decorating our very own CNFBTA Christmas Trees at the Adopt-A-Tree decorate and display at the Village.
URL:https://gbta.org/fr/event/cnfbta-giving-back-at-give-kids-the-world-village/
CATEGORIES:North America,US Chapter Event
END:VEVENT
END:VCALENDAR