BEGIN:VCALENDAR
VERSION:2.0
PRODID:-//Global Business Travel Association - GBTA - ECPv6.9.0//NONSGML v1.0//EN
CALSCALE:GREGORIAN
METHOD:PUBLISH
X-WR-CALNAME:Global Business Travel Association - GBTA
X-ORIGINAL-URL:https://gbta.org/fr
X-WR-CALDESC:Évènements pour Global Business Travel Association - GBTA
REFRESH-INTERVAL;VALUE=DURATION:PT1H
X-Robots-Tag:noindex
X-PUBLISHED-TTL:PT1H
BEGIN:VTIMEZONE
TZID:America/New_York
BEGIN:DAYLIGHT
TZOFFSETFROM:-0500
TZOFFSETTO:-0400
TZNAME:EDT
DTSTART:20250309T070000
END:DAYLIGHT
BEGIN:STANDARD
TZOFFSETFROM:-0400
TZOFFSETTO:-0500
TZNAME:EST
DTSTART:20251102T060000
END:STANDARD
END:VTIMEZONE
BEGIN:VEVENT
DTSTART;TZID=America/New_York:20251204T133000
DTEND;TZID=America/New_York:20251204T190000
DTSTAMP:20260419T205849
CREATED:20250701T140551Z
LAST-MODIFIED:20251014T110738Z
UID:24255-1764855000-1764874800@gbta.org
SUMMARY:Le Carrefour des Échanges Travel & MICE par GBTA
DESCRIPTION:Description: Le Carrefour des Échanges Travel & MICE par GBTA France du 4 décembre réunira des acheteurs\, Travel Managers et fournisseurs\, représentant la chaîne de valeur Travel et MICE. Une opportunité d’échanger avec vos pairs et de bénéficier du retour d’expérience de professionnels sur des thématiques stratégiques.\nStart Date and Time: 4 décembre 2025 13h30 CET\nEnd Date and Time: 4 décembre 2025 19h00 CET\nLocation: Le Méridien Etoile\nAddress: 81 Bd Gouvion-Saint-Cyr\, 75017 Paris \nEn savoir plus \nInscrivez-vous
URL:https://gbta.org/fr/event/le-carrefour-des-echanges-travel-mice-par-gbta-2/
CATEGORIES:France,Summits & Workshops
END:VEVENT
BEGIN:VEVENT
DTSTART;TZID=America/New_York:20251204T140000
DTEND;TZID=America/New_York:20251204T150000
DTSTAMP:20260419T205849
CREATED:20250114T150711Z
LAST-MODIFIED:20250114T152350Z
UID:20097-1764856800-1764860400@gbta.org
SUMMARY:Regional Direct Talks - GBTA Canada
DESCRIPTION:GBTA Canada recognizes the importance of peer networking and best practice sharing. Unique to GBTA Canada are our Regional Direct (buyer) Talks. Direct (buyer) members gather virtually\, to exchange ideas\, and understand market dynamics. \nUpcoming 2025 Direct Talk:\n• December 4\, 2025 @ 2PM EST\nTo learn more and register for the GBTA Canada Direct Talks\, please contact: Canada@gbta.org
URL:https://gbta.org/fr/event/regional-direct-talks-gbta-canada-4/
CATEGORIES:Canada,North America,Online Courses & Webinars
END:VEVENT
BEGIN:VEVENT
DTSTART;TZID=America/New_York:20251204T180000
DTEND;TZID=America/New_York:20251204T220000
DTSTAMP:20260419T205849
CREATED:20250825T063537Z
LAST-MODIFIED:20250825T063537Z
UID:25585-1764871200-1764885600@gbta.org
SUMMARY:GBTA | South Carolina Annual Charity Gala
DESCRIPTION:GBTA South Carolina Annual Charity Gala\, Charleston SC
URL:https://gbta.org/fr/event/gbta-south-carolina-annual-charity-gala/
CATEGORIES:North America,US Chapter Event
END:VEVENT
END:VCALENDAR