BEGIN:VCALENDAR
VERSION:2.0
PRODID:-//Global Business Travel Association - GBTA - ECPv6.9.0//NONSGML v1.0//EN
CALSCALE:GREGORIAN
METHOD:PUBLISH
X-WR-CALNAME:Global Business Travel Association - GBTA
X-ORIGINAL-URL:https://gbta.org/fr
X-WR-CALDESC:Évènements pour Global Business Travel Association - GBTA
REFRESH-INTERVAL;VALUE=DURATION:PT1H
X-Robots-Tag:noindex
X-PUBLISHED-TTL:PT1H
BEGIN:VTIMEZONE
TZID:America/New_York
BEGIN:DAYLIGHT
TZOFFSETFROM:-0500
TZOFFSETTO:-0400
TZNAME:EDT
DTSTART:20260308T070000
END:DAYLIGHT
BEGIN:STANDARD
TZOFFSETFROM:-0400
TZOFFSETTO:-0500
TZNAME:EST
DTSTART:20261101T060000
END:STANDARD
END:VTIMEZONE
BEGIN:VEVENT
DTSTART;TZID=America/New_York:20260122T103000
DTEND;TZID=America/New_York:20260122T130000
DTSTAMP:20260419T194445
CREATED:20260112T134546Z
LAST-MODIFIED:20260113T124853Z
UID:28604-1769077800-1769086800@gbta.org
SUMMARY:GBTA-DFW January Chapter Meeting - GTP Credit Approved
DESCRIPTION:Chapter/Committee/Partner Name:\nGBTA-DFW Chapter \nDescription: Kick off 2026 with GBTA-DFW’s first meeting of the year! Join us on January 22\, 2026\, for an exciting and insightful event featuring a panel of AI Superstars who are shaping the future of travel technology. This is your chance to learn how artificial intelligence and blockchain are transforming the business travel industry\, hear from top innovators\, and network with peers in the travel community. Don’t miss this opportunity to gain actionable insights and stay ahead of the curve in an ever-evolving landscape. \n \nEvent Speakers:\nHank Benedetti\, Chief Commercial Officer\, Blockskye\nHank leads sales\, marketing\, communications\, and industry partnerships at Blockskye\, a company revolutionizing business travel technology through blockchain and AI. \nMike Daly\, Senior Vice President\, Sales\, Serko Ltd\nWith over 30 years of travel technology experience\, Mike has played a pivotal role in developing corporate online booking solutions at GetThere\, Travelocity\, and Sabre. \nMatt Beck\, VP Customer Solutions\, Cerebri AI\nMatt brings extensive expertise in global travel and expense technology\, having held leadership roles at Serko\, Travelport\, Deem\, GetThere\, and Sabre. \nLocation of Event: In-Person at American Airlines Headquarters\nSkyview 6 Ballroom\n4501 Hwy 360\, Fort Worth\, TX 76155 \nPrice:\n$50.00 Members\n$70.00 Guest of Member\n$50.00 ALL ACCESS MEMBERS ONLY – Subject to Verification\n$75.00 Guest Non Member
URL:https://gbta.org/fr/event/gbta-dfw-january-chapter-meeting/
CATEGORIES:North America,US Chapter Event
END:VEVENT
END:VCALENDAR