BEGIN:VCALENDAR
VERSION:2.0
PRODID:-//Global Business Travel Association - GBTA - ECPv6.9.0//NONSGML v1.0//EN
CALSCALE:GREGORIAN
METHOD:PUBLISH
X-ORIGINAL-URL:https://gbta.org/fr
X-WR-CALDESC:Évènements pour Global Business Travel Association - GBTA
REFRESH-INTERVAL;VALUE=DURATION:PT1H
X-Robots-Tag:noindex
X-PUBLISHED-TTL:PT1H
BEGIN:VTIMEZONE
TZID:America/New_York
BEGIN:DAYLIGHT
TZOFFSETFROM:-0500
TZOFFSETTO:-0400
TZNAME:EDT
DTSTART:20260308T070000
END:DAYLIGHT
BEGIN:STANDARD
TZOFFSETFROM:-0400
TZOFFSETTO:-0500
TZNAME:EST
DTSTART:20261101T060000
END:STANDARD
TZID:Europe/Paris
BEGIN:DAYLIGHT
TZOFFSETFROM:+0100
TZOFFSETTO:+0200
TZNAME:CEST
DTSTART:20260329T010000
END:DAYLIGHT
BEGIN:STANDARD
TZOFFSETFROM:+0200
TZOFFSETTO:+0100
TZNAME:CET
DTSTART:20261025T010000
END:STANDARD
END:VTIMEZONE
BEGIN:VEVENT
DTSTART;VALUE=DATE:20260310
DTEND;VALUE=DATE:20260311
DTSTAMP:20260419T174854
CREATED:20260409T131739Z
LAST-MODIFIED:20260409T131739Z
UID:31196-1773100800-1773187199@gbta.org
SUMMARY:GBTA Canada Regional Direct (Buyer) Talks
DESCRIPTION:GBTA Canada recognizes the importance of peer networking and best practice sharing. Unique to GBTA Canada are our Regional Direct (buyer) Talks. Direct (buyer) members gather virtually\, to exchange ideas\, and understand market dynamics. \nMarch 10\, 2026 at 2:00 PM ET \nTo learn more and register for the GBTA Canada Direct Talks\, please contact: Canada@gbta.org
URL:https://gbta.org/fr/event/gbta-canada-regional-direct-buyer-talks/
CATEGORIES:Canada
END:VEVENT
BEGIN:VEVENT
DTSTART;TZID=Europe/Paris:20260310T093000
DTEND;TZID=Europe/Paris:20260310T140000
DTSTAMP:20260419T174854
CREATED:20260127T152602Z
LAST-MODIFIED:20260305T131832Z
UID:28961-1773135000-1773151200@gbta.org
SUMMARY:GBTA Italy Roadshow
DESCRIPTION:>>SOLD OUT<< \nIl  Roadshow Plus di GBTA Italia è un evento smart di mezza giornata dedicato all’analisi delle tematiche più rilevanti e attuali del Business Travel.  \nIl 10 marzo 2026\, a Milano\, buyer\, supplier ed esperti del settore si incontrano per un programma strutturato di masterclass\, talk\, networking\, tavole rotonde e insight pratici\, pensato per supportare decisioni più consapevoli e favorire un confronto professionale di valore.  \nL’evento offre una visione concreta e aggiornata dell’evoluzione del business travel\, con prospettive dinamiche sui trend di mercato\, le priorità del travel management e le sfide che l’industria si trova ad affrontare oggi. 
URL:https://gbta.org/fr/event/gbta-italy-roadshow/
LOCATION:Rosa Grand\, Piazza Fontana\, 3 20122\, Milano\, Italy
CATEGORIES:Italy,Roadshow
END:VEVENT
BEGIN:VEVENT
DTSTART;TZID=America/New_York:20260310T110000
DTEND;TZID=America/New_York:20260310T131000
DTSTAMP:20260419T174854
CREATED:20260227T153750Z
LAST-MODIFIED:20260227T161150Z
UID:30134-1773140400-1773148200@gbta.org
SUMMARY:GBTA TN March Chapter Meeting The Generational Power Panel: Women Shaping Business Travel
DESCRIPTION:GBTA Tennessee\nJoin us on March 10th as we celebrate International Women’s Day with GBTA-Tennessee! This month’s chapter luncheon is dedicated to the career paths of women in business travel. We will spotlight Nashville’s very own leaders and the mentors who uplift them. Join us to hear diverse perspectives\, share wisdom\, and inspire the next generation of women in our industry. \nWhat It’s About: \nThis session isn’t just a conversation; it’s a commitment to your professional growth. Whether you are just starting your journey or are a seasoned executive\, you will gain practical insights on: \nIdentifying critical skills for the modern travel landscape\nPursuing growth opportunities with intentionality\nMentorship & Allyship: Celebrating the champions who support and elevate women in our community \nWe are thrilled to announce that Amy Brodrick\, Founder & CEO of Walk In It\, will serve as our moderator\, guiding us through what promises to be an energizing and meaningful session. \nAmy Brodrick\, Founder & CEO of Walk In It\, Moderator
URL:https://gbta.org/fr/event/gbta-tn-march-chapter-meeting-the-generational-power-panel-women-shaping-business-travel/
LOCATION:North America\, United States
CATEGORIES:North America,US Chapter Event
END:VEVENT
END:VCALENDAR