BEGIN:VCALENDAR
VERSION:2.0
PRODID:-//Global Business Travel Association - GBTA - ECPv6.9.0//NONSGML v1.0//EN
CALSCALE:GREGORIAN
METHOD:PUBLISH
X-WR-CALNAME:Global Business Travel Association - GBTA
X-ORIGINAL-URL:https://gbta.org/pt
X-WR-CALDESC:Eventos para Global Business Travel Association - GBTA
REFRESH-INTERVAL;VALUE=DURATION:PT1H
X-Robots-Tag:noindex
X-PUBLISHED-TTL:PT1H
BEGIN:VTIMEZONE
TZID:America/New_York
BEGIN:DAYLIGHT
TZOFFSETFROM:-0500
TZOFFSETTO:-0400
TZNAME:EDT
DTSTART:20220313T070000
END:DAYLIGHT
BEGIN:STANDARD
TZOFFSETFROM:-0400
TZOFFSETTO:-0500
TZNAME:EST
DTSTART:20221106T060000
END:STANDARD
END:VTIMEZONE
BEGIN:VEVENT
DTSTART;VALUE=DATE:20221018
DTEND;VALUE=DATE:20221019
DTSTAMP:20260420T064039
CREATED:20220928T154327Z
LAST-MODIFIED:20221013T045329Z
UID:7356-1666051200-1666137599@gbta.org
SUMMARY:Chicago Chapter - GBTA Chicago October Meeting - Emerging Technology and Managing Travel Post Pandemic - GTP Credit Approved
DESCRIPTION:Don’t miss this dynamic speaker line up for our Q3 meeting. We all know this past summer travel has not been easy\, but our key speakers are enhancing the travel experience with new and innovative solutions that will impact the travel experience for years to come. \nEvent Speaker \nCaitlin Gomez\, VP\, Travel Partnerships CLEAR | CLEAR \nLocation of Event \nRosemont\, IL \nVenue Information \nOLC Education & Conference Center\, 9400 West Higgins Road Suite 100\, Rosemont\, IL 60018 \nPricing \n$75 members / $125 non-members
URL:https://gbta.org/pt/event/chicago-chapter-gbta-chicago-october-meeting-emerging-technology-and-managing-travel-post-pandemic/
LOCATION:in-person
CATEGORIES:North America
END:VEVENT
BEGIN:VEVENT
DTSTART;TZID=America/New_York:20221018T110000
DTEND;TZID=America/New_York:20221018T120000
DTSTAMP:20260420T064039
CREATED:20220929T140605Z
LAST-MODIFIED:20220930T003151Z
UID:7380-1666090800-1666094400@gbta.org
SUMMARY:Beyond Travel Risk Management
DESCRIPTION:From COVID\, to civil unrest\, to war\, the increase in risk events which impact travelers around the globe is increasing.  At the same time\, the number of employees working remotely is rising.  Nearly 70% of HR and Managed Travel departments believe that the dominant way of working will by hybrid in the future.  Join us on October 18th as industry expert\, Eric Chetwynd from Everbridge explores:• The evolution of Travel Risk Management programs• Emerging protection standards and best practices for mitigating travel risks• How lessons from these evolutions can be applied to remote workers as well.  Speaker \n \n  \n  \n  \n  \nEric ChetwyndSenior Product Marketing Director at EverbridgeEric Chetwynd is Senior Product Marketing Director and General Manager of Healthcare at Everbridge. He oversees the company’s global portfolio of corporate and health care solutions go-to-market strategies. Chetwynd has more than 20 years of experience creating and leading innovative software solutions to market. Prior to working for Everbridge\, he led go-to-market strategies and solution delivery at a number of mission-driven technology organizations including Curaspan (NaviHealth)\, PatientKeeper (HCA Healthcare)\, Ingenix (Optum Insights) and OneSource Information Insights (Dun & Bradstreet). Chetwynd has a unique global perspective\, having worked closely with diverse teams world-wide to develop patient-centric solutions that address the complexities of today’s health care landscape. He regularly speaks at educational conferences and organizational meetings and has been a featured speaker at HIMSS\, Becker’s\, CMSA\, NTOCC\, Society of Actuaries\, National Association of Healthcare Services\, and IAHSS. \nMade Possible by \n \n  \n  \n 
URL:https://gbta.org/pt/event/beyond-travel-risk-management/
LOCATION:Virtual
CATEGORIES:Online Courses & Webinars
END:VEVENT
END:VCALENDAR