BEGIN:VCALENDAR
VERSION:2.0
PRODID:-//Global Business Travel Association - GBTA - ECPv6.9.0//NONSGML v1.0//EN
CALSCALE:GREGORIAN
METHOD:PUBLISH
X-WR-CALNAME:Global Business Travel Association - GBTA
X-ORIGINAL-URL:https://gbta.org/pt
X-WR-CALDESC:Eventos para Global Business Travel Association - GBTA
REFRESH-INTERVAL;VALUE=DURATION:PT1H
X-Robots-Tag:noindex
X-PUBLISHED-TTL:PT1H
BEGIN:VTIMEZONE
TZID:America/New_York
BEGIN:DAYLIGHT
TZOFFSETFROM:-0500
TZOFFSETTO:-0400
TZNAME:EDT
DTSTART:20220313T070000
END:DAYLIGHT
BEGIN:STANDARD
TZOFFSETFROM:-0400
TZOFFSETTO:-0500
TZNAME:EST
DTSTART:20221106T060000
END:STANDARD
END:VTIMEZONE
BEGIN:VEVENT
DTSTART;TZID=America/New_York:20221214T100000
DTEND;TZID=America/New_York:20221214T110000
DTSTAMP:20260420T024323
CREATED:20220803T183321Z
LAST-MODIFIED:20221212T143753Z
UID:3842-1671012000-1671015600@gbta.org
SUMMARY:GBTA Europe Town Hall
DESCRIPTION:Join GBTA’s volunteer leadership as the European and Global committees share what they see as the key themes for 2023 and what they are planning to deliver in the fields of: \n\nAccommodations\nAviation\nDE&I\nMeetings\nPayment Solution\nRisk\nSustainability\nTechnology
URL:https://gbta.org/pt/event/gbta-europe-town-hall-2/
LOCATION:Virtual
CATEGORIES:Europe,France,Italy,Summits & Workshops
END:VEVENT
END:VCALENDAR