BEGIN:VCALENDAR
VERSION:2.0
PRODID:-//Global Business Travel Association - GBTA - ECPv6.9.0//NONSGML v1.0//EN
CALSCALE:GREGORIAN
METHOD:PUBLISH
X-WR-CALNAME:Global Business Travel Association - GBTA
X-ORIGINAL-URL:https://gbta.org/pt
X-WR-CALDESC:Eventos para Global Business Travel Association - GBTA
REFRESH-INTERVAL;VALUE=DURATION:PT1H
X-Robots-Tag:noindex
X-PUBLISHED-TTL:PT1H
BEGIN:VTIMEZONE
TZID:America/New_York
BEGIN:DAYLIGHT
TZOFFSETFROM:-0500
TZOFFSETTO:-0400
TZNAME:EDT
DTSTART:20230312T070000
END:DAYLIGHT
BEGIN:STANDARD
TZOFFSETFROM:-0400
TZOFFSETTO:-0500
TZNAME:EST
DTSTART:20231105T060000
END:STANDARD
END:VTIMEZONE
BEGIN:VEVENT
DTSTART;VALUE=DATE:20230419
DTEND;VALUE=DATE:20230420
DTSTAMP:20260419T235812
CREATED:20230404T073254Z
LAST-MODIFIED:20230412T160229Z
UID:9940-1681862400-1681948799@gbta.org
SUMMARY:Webinar - CO2 emissions display in the OBTs: Is the information good enough?
DESCRIPTION:Time:\n19 Apr 2023 14:00 CET 13:00 GMT \nFor a long time\, OBTs have used generic methodologies to calculate CO2 emissions at point of sale. While they allow to estimate the level of CO2 emissions\, these methodologies do not allow travelers to accurately compare several airlines on a same route\, and make educated choices on the greenest airline to use. At the same time\, travel buyers and travel managers improve the quality of the reporting to report on air CO emissions in a more granular way\, using different methodologies. Where do the key market leading OBTs stand today in terms of CO2 emissions display\, and what are they working on in terms of roadmap? Are there other solutions available today to nudge the travelers to greener behaviors\, thanks to improved information? Join us in this educational session where sustainability meets technology to build a greener program! \nModerators: \n\nAurélie Duprez\, Areka Consulting\nOlivier Benoit\, Advito\n\nSpeakers: \n\nSylvain Muller\, SAP Concur\nSarah Benarey\, eco.mio\nDaniel Senyard\, Shep\nOlivier Girault\, Amadeus\nColleen Black\, Tripkicks\nNina Birger\, chooose\nAlistair Leaman\, KDS\nBrett Dowling\, Sabre
URL:https://gbta.org/pt/event/webinar-co2-emissions-display-in-the-obts-is-the-information-good-enough/
CATEGORIES:Europe,Online Courses & Webinars
END:VEVENT
BEGIN:VEVENT
DTSTART;TZID=America/New_York:20230419T120000
DTEND;TZID=America/New_York:20230419T143000
DTSTAMP:20260419T235812
CREATED:20230307T122135Z
LAST-MODIFIED:20230309T145557Z
UID:9425-1681905600-1681914600@gbta.org
SUMMARY:Plaza Premium Lounge & Emirates Tour - GTP Credit Approved
DESCRIPTION:GBTA Central and Northern Florida \nPlaza Premium Lounge & Emirates Tour\nJoin us for an amazing opportunity. Experience the new Plaza Premium Lounge at the Orlando International Airport\, tour an Emirates aircraft and check out he new Terminal C. Space is limited so register today. Attendees will have a chance to experience the new Plaza Premium Lounge\, enjoy the food and drinks and hear about what’s new and exciting with them. After everyone will walk down and tour an Emirates Boeing 777 and visit the new Terminal C. \nLocation of Event \nOrlando International Airport\, Orlando FL \nPricing and Registration \n$40 Members / $60 Non-Members \n 
URL:https://gbta.org/pt/event/plaza-premium-lounge-emirates-tour/
CATEGORIES:US Chapter Event
END:VEVENT
END:VCALENDAR