BEGIN:VCALENDAR
VERSION:2.0
PRODID:-//Global Business Travel Association - GBTA - ECPv6.9.0//NONSGML v1.0//EN
CALSCALE:GREGORIAN
METHOD:PUBLISH
X-WR-CALNAME:Global Business Travel Association - GBTA
X-ORIGINAL-URL:https://gbta.org/pt
X-WR-CALDESC:Eventos para Global Business Travel Association - GBTA
REFRESH-INTERVAL;VALUE=DURATION:PT1H
X-Robots-Tag:noindex
X-PUBLISHED-TTL:PT1H
BEGIN:VTIMEZONE
TZID:America/New_York
BEGIN:DAYLIGHT
TZOFFSETFROM:-0500
TZOFFSETTO:-0400
TZNAME:EDT
DTSTART:20230312T070000
END:DAYLIGHT
BEGIN:STANDARD
TZOFFSETFROM:-0400
TZOFFSETTO:-0500
TZNAME:EST
DTSTART:20231105T060000
END:STANDARD
END:VTIMEZONE
BEGIN:VEVENT
DTSTART;TZID=America/New_York:20230425T160000
DTEND;TZID=America/New_York:20230425T183000
DTSTAMP:20260419T235810
CREATED:20230413T143929Z
LAST-MODIFIED:20230424T045521Z
UID:10108-1682438400-1682447400@gbta.org
SUMMARY:San Diego Chapter - April Networking Meeting
DESCRIPTION:Let’s get together and celebrate that the sun is out in San Diego! Join us at the recently transformed Town and Country Resort in Mission Valley. \nA beloved landmark since 1953\, the resort’s multimillion dollar revamp from top-to-bottom has added modern guestrooms\, chef-driven dining and a sprawling pool complex. \nNow you have the opportunity to join the fun! \nLocation of Event \nTown and Country Resort\n500 Hotel Circle North\nSan Diego CA 92108 \nPricing and Registration \n$35 members/$45 guests
URL:https://gbta.org/pt/event/san-diego-april-networking-meeting/
CATEGORIES:US Chapter Event
END:VEVENT
END:VCALENDAR