BEGIN:VCALENDAR
VERSION:2.0
PRODID:-//Global Business Travel Association - GBTA - ECPv6.9.0//NONSGML v1.0//EN
CALSCALE:GREGORIAN
METHOD:PUBLISH
X-WR-CALNAME:Global Business Travel Association - GBTA
X-ORIGINAL-URL:https://gbta.org/pt
X-WR-CALDESC:Eventos para Global Business Travel Association - GBTA
REFRESH-INTERVAL;VALUE=DURATION:PT1H
X-Robots-Tag:noindex
X-PUBLISHED-TTL:PT1H
BEGIN:VTIMEZONE
TZID:America/New_York
BEGIN:DAYLIGHT
TZOFFSETFROM:-0500
TZOFFSETTO:-0400
TZNAME:EDT
DTSTART:20230312T070000
END:DAYLIGHT
BEGIN:STANDARD
TZOFFSETFROM:-0400
TZOFFSETTO:-0500
TZNAME:EST
DTSTART:20231105T060000
END:STANDARD
END:VTIMEZONE
BEGIN:VEVENT
DTSTART;VALUE=DATE:20230523
DTEND;VALUE=DATE:20230525
DTSTAMP:20260419T232157
CREATED:20230228T140647Z
LAST-MODIFIED:20230425T033455Z
UID:9326-1684800000-1684972799@gbta.org
SUMMARY:GBTA Ladders Summit 2023
DESCRIPTION:The GBTA Ladders season culminates at the three-day Summit\, bringing together all program pillars: professional development\, global networking across verticals\, and innovative presentations on the season theme. The goal of Summit is to inspire current and next generation business travel leaders and to drive industry change. \nAttend Summit to experience the full value of the Ladders program. \nAttendees will benefit from: \n\nAn environment that encourages collaboration between current industry leaders and rising top talent\nProject presentations that showcase the transformative ideas and concepts generated from the Ladders teams\nContent aimed to accelerate personal\, professional\, and industry development\nStrengthened connections between individuals on Ladders teams\nBoosted access and exposure to industry leaders\n\n\n100% of attendees rated their overall Summit experience as excellent or above average\n9.2 out of 10 is the average rating for all Summit networking sessions\n5% of attendees will or are likely to return to next year’s Summit\n8.4 out of 10 is the average rating for all Summit education sessions\n13 countries represented in the Season 9 program\n\nParticipants include: \n\nGBTA Ladders Season 9 participants – Mentors\, Mentees\, Alumni Advisors\, Committee volunteers\, and Advisory Board members\nGBTA Ladders alumni\nGBTA representatives\nKeynote speaker and expert guests from outside the program\n\nPlease note – this event is by invitation only. \nView more information
URL:https://gbta.org/pt/event/gbta-ladders-summit-2023/
CATEGORIES:North America,Online Courses & Webinars,Summits & Workshops
END:VEVENT
END:VCALENDAR