BEGIN:VCALENDAR
VERSION:2.0
PRODID:-//Global Business Travel Association - GBTA - ECPv6.9.0//NONSGML v1.0//EN
CALSCALE:GREGORIAN
METHOD:PUBLISH
X-ORIGINAL-URL:https://gbta.org/pt
X-WR-CALDESC:Eventos para Global Business Travel Association - GBTA
REFRESH-INTERVAL;VALUE=DURATION:PT1H
X-Robots-Tag:noindex
X-PUBLISHED-TTL:PT1H
BEGIN:VTIMEZONE
TZID:America/New_York
BEGIN:DAYLIGHT
TZOFFSETFROM:-0500
TZOFFSETTO:-0400
TZNAME:EDT
DTSTART:20230312T070000
END:DAYLIGHT
BEGIN:STANDARD
TZOFFSETFROM:-0400
TZOFFSETTO:-0500
TZNAME:EST
DTSTART:20231105T060000
END:STANDARD
END:VTIMEZONE
BEGIN:VEVENT
DTSTART;VALUE=DATE:20230606
DTEND;VALUE=DATE:20230607
DTSTAMP:20260420T023253
CREATED:20230517T100516Z
LAST-MODIFIED:20230606T052537Z
UID:10788-1686009600-1686095999@gbta.org
SUMMARY:Tennessee Chapter - A Discussion on Diversity\, Equity\, & Inclusion with Emma Kate Protis\, Delta Air Lines - GTP Credit Approved
DESCRIPTION:It’s never been more essential to build a supportive and inclusive workplace. Join us as Emma Kate Protis\, Senior Manager\, Delta Air Lines\, discusses how the creation of a diverse\, equitable and inclusive environment can foster creativity\, fresh perspectives\, and understanding. Emma Kate is responsible for shaping Delta’s DEI reputation that reflects and engages Delta customers around the globe. \nEvent Speaker \nEmma Kate Protis\, Senior Manager\, Delta Air Lines \nLocation of Event \nDrury Plaza Hotel Nashville Downtown\n300 Korean Veterans Blvd\nNashville\, TN 37201 \nPricing and Registration \n$35.00 GBTA-TN Member Registration\n$45.00 after 07:00 am June 5 \n$35.00 GBTA All-Access Registration\n$45.00 after 07:00 am June 5 \n$45.00 Guest Registration\n$55.00 after 07:00 am June 5
URL:https://gbta.org/pt/event/tennessee-chapter-a-discussion-on-diversity-equity-inclusion-with-emma-kate-protis-delta-air-lines/
CATEGORIES:US Chapter Event
END:VEVENT
END:VCALENDAR