BEGIN:VCALENDAR
VERSION:2.0
PRODID:-//Global Business Travel Association - GBTA - ECPv6.9.0//NONSGML v1.0//EN
CALSCALE:GREGORIAN
METHOD:PUBLISH
X-WR-CALNAME:Global Business Travel Association - GBTA
X-ORIGINAL-URL:https://gbta.org/pt
X-WR-CALDESC:Eventos para Global Business Travel Association - GBTA
REFRESH-INTERVAL;VALUE=DURATION:PT1H
X-Robots-Tag:noindex
X-PUBLISHED-TTL:PT1H
BEGIN:VTIMEZONE
TZID:America/New_York
BEGIN:DAYLIGHT
TZOFFSETFROM:-0500
TZOFFSETTO:-0400
TZNAME:EDT
DTSTART:20230312T070000
END:DAYLIGHT
BEGIN:STANDARD
TZOFFSETFROM:-0400
TZOFFSETTO:-0500
TZNAME:EST
DTSTART:20231105T060000
END:STANDARD
END:VTIMEZONE
BEGIN:VEVENT
DTSTART;TZID=America/New_York:20230622T120000
DTEND;TZID=America/New_York:20230622T170000
DTSTAMP:20260420T023147
CREATED:20230510T153258Z
LAST-MODIFIED:20230606T050454Z
UID:10654-1687435200-1687453200@gbta.org
SUMMARY:Central & Northern Florida Chapter - Orlando Summer Educational - GTP Credit Approved
DESCRIPTION:Join us at our Summer Educational as we continue to invest in people through providing education\, networking and mentorship. We have a full afternoon of amazing speakers. Come prepared to learn and walk away with some nuggets of wisdom that you can take back to your organization to make some changes. \nEvent Speakers \nFrederick Bowen\, Sr. Director | Corporate & Global Business Accounts\nJustin Morris\, Director of Sales | Traxo\nTheo Szymanski\, Director of Business Development | TRIPBAM\, Inc.\nMaria Henson\, Market Research & Insights | Visit Orlando \nLocation of Event \nWyndham Orlando Resort & Conference Center\n3011 Maingate Lane\, Kissimmee\, FL 34747 \nPricing and Registration \n$85
URL:https://gbta.org/pt/event/central-northern-florida-chapter-orlando-summer-educational/
CATEGORIES:US Chapter Event
END:VEVENT
END:VCALENDAR