BEGIN:VCALENDAR
VERSION:2.0
PRODID:-//Global Business Travel Association - GBTA - ECPv6.9.0//NONSGML v1.0//EN
CALSCALE:GREGORIAN
METHOD:PUBLISH
X-ORIGINAL-URL:https://gbta.org/pt
X-WR-CALDESC:Eventos para Global Business Travel Association - GBTA
REFRESH-INTERVAL;VALUE=DURATION:PT1H
X-Robots-Tag:noindex
X-PUBLISHED-TTL:PT1H
BEGIN:VTIMEZONE
TZID:America/New_York
BEGIN:DAYLIGHT
TZOFFSETFROM:-0500
TZOFFSETTO:-0400
TZNAME:EDT
DTSTART:20230312T070000
END:DAYLIGHT
BEGIN:STANDARD
TZOFFSETFROM:-0400
TZOFFSETTO:-0500
TZNAME:EST
DTSTART:20231105T060000
END:STANDARD
END:VTIMEZONE
BEGIN:VEVENT
DTSTART;TZID=America/New_York:20230707T110000
DTEND;TZID=America/New_York:20230707T130000
DTSTAMP:20260420T074333
CREATED:20230107T165840Z
LAST-MODIFIED:20230107T170826Z
UID:8609-1688727600-1688734800@gbta.org
SUMMARY:The Fundamentals of Business Travel Management™
DESCRIPTION:Designed as a comprehensive guide to the key areas of managed travel\, GBTA’s Fundamentals curriculum includes a full range of topics including safety\, policy\, trends\, performance\, and more. Participants in this course gain a better understanding of business travel management and make themselves indispensable to the business travel needs of their organization. Please note this is a virtual event. GTP holders will earn 14 GTP® Recertification credits. \nPricing and Registration \nComplimentary to GBTA members\, $550 non-members \nLearn More
URL:https://gbta.org/pt/event/the-fundamentals-of-business-travel-management-2/
LOCATION:Virtual
CATEGORIES:Learning,North America
END:VEVENT
END:VCALENDAR