BEGIN:VCALENDAR
VERSION:2.0
PRODID:-//Global Business Travel Association - GBTA - ECPv6.9.0//NONSGML v1.0//EN
CALSCALE:GREGORIAN
METHOD:PUBLISH
X-WR-CALNAME:Global Business Travel Association - GBTA
X-ORIGINAL-URL:https://gbta.org/pt
X-WR-CALDESC:Eventos para Global Business Travel Association - GBTA
REFRESH-INTERVAL;VALUE=DURATION:PT1H
X-Robots-Tag:noindex
X-PUBLISHED-TTL:PT1H
BEGIN:VTIMEZONE
TZID:America/New_York
BEGIN:DAYLIGHT
TZOFFSETFROM:-0500
TZOFFSETTO:-0400
TZNAME:EDT
DTSTART:20230312T070000
END:DAYLIGHT
BEGIN:STANDARD
TZOFFSETFROM:-0400
TZOFFSETTO:-0500
TZNAME:EST
DTSTART:20231105T060000
END:STANDARD
END:VTIMEZONE
BEGIN:VEVENT
DTSTART;VALUE=DATE:20230925
DTEND;VALUE=DATE:20230926
DTSTAMP:20260420T074325
CREATED:20230809T115133Z
LAST-MODIFIED:20230809T115323Z
UID:12130-1695600000-1695686399@gbta.org
SUMMARY:DC GBTA 7th Annual Golf Event & Inaugural Pickleball Clinic & Tournament!
DESCRIPTION:Sponsored by Delta Air Lines\, this year will be our 7th Annual Golf Event – featuring fun and competitive challenges and prizes and ample networking opportunities! \nTo add to the excitement\, we will host our very first PickleBall Clinic and Tournament! \nCome join us! The day will begin with Continental Breakfast at registration as we send the Golfers out to the course. We anticipate PickleBall to begin at 10am with a Pro Clinic\, then Tournament play until 1pm. \nFor those who prefer not to “play\,” we are pleased to offer Wine Tasting at 11am. In the afternoon\, we will feature a delicious buffet meal\, with awards and presentations by our sponsors and leadership team. \nCheck back for more details\, but be sure to register to attend as we will be limited in space for golf (120) and pickleball (20)! \nSee you there!
URL:https://gbta.org/pt/event/dc-gbta-7th-annual-golf-event-inaugural-pickleball-clinic-tournament/
CATEGORIES:US Chapter Event
END:VEVENT
END:VCALENDAR